Workbook

Sheet All teams-players
A1: Golf Results For USCAA Reporting
A2: Great Bay Community College
A4: GBCC
A5: Golfer Name
A6: Mike Rollick
A7: Tom Bullock
A8: Eric Moyer
A9: Brady Murphy
A10: Max Delaney
A11: Tyler Raeside | B11: 5
A13: UMA
A14: Golfer Name
A15: Theo Hustler
A16: Cole Chaplin
A17: Ryan Lai
A18: Grant Stubbs
A19: Riley Inch | B19: 5
A20: Caleb Russell
A22: SMCC
A23: Golfer Name
A24: Asa Buteau
A25: Brandon Chilton
A26: Quinn Dillon
A27: Garrett Hedges
A28: Lucas Inman
A29: Christopher Keene
A30: Owen Lee
A31: Matthew Quigley | B31: 5
A32: Quincy Seavey
A33: Alexander Watts
A35: PSC
A36: Golfer Name
A37: Nick Porreca
A38: Owen Kime
A39: Sam Reynolds
A40: Zach Hale
A41: Gabe Clark | B41: 5
A42: Dominic Curley
A43: Aiden Oberle
A44: Josh Alexarian
A45: Tyson Smith
A46: Zach Zinzow
A47: Ryen Janus
A48: Nicholas Everett
A50: YCCC
A51: Golfer Name
A52: Dan Williams
A53: Liam Connors
A54: Nic Gagnon
... A56: Dominic Capello
A57: Luke Sullivan | B57: 6
A58: Amy Stanek
A60: KVCC
A61: Golfer Name | B61: 4
A62: Abbey Kemp
A63: Andrew Trombley
A64: Kenneth Hagen
A65: Colton Burge
A68: NHTI
A69: Golfer Name
A70: Cam Brown
A71: Caleb Szafran
A72: Kyle Ovitt
A73: Thomas Jackson | B73: 4
A76: CMCC
A77: Golfer Name
A78: Bryson Mattox
A79: Brady Kilby
A80: Logan Carpentet
A84: SMCC Women | B84: x
A85: Golfer Name
A86: Charlotte Blanchard | B86: 4
A87: Sydney Pergerson
A88: Delaney Blake
A89: Emma Hajdasz

Sheet PSC8-24
A1: Paul Smith's College Invitational
A2: Saranac Inn Golf & Country Club (Saranac Lake, N.Y.)
A3: 72
A4: 5500
A5: GBCC
A6: Golfer Name | B6: # of matches | C6: Total Rounds (.5 for 9 hole round) | D6: Strokes | E6: Stroke Average
A7: Mike Rollick
A8: Tom Bullock
A9: Eric Moyer
A10: Brady Murphy
A11: Max Delaney
A12: Tyler Raeside
A14: UMA
A15: Golfer Name | B15: # of matches | C15: Total Rounds (.5 for 9 hole round) | D15: Strokes | E15: Stroke Average
A16: Theo Hustler | B16: 1 | C16: 1 | D16: 76 | E16: =D16/C16 -> 76
A17: Cole Chaplin | B17: 1 | C17: 1 | D17: 78 | E17: =D17/C17 -> 78
A18: Ryan Lai | B18: 1 | C18: 1 | D18: 87 | E18: =D18/C18 -> 87
A19: Grant Stubbs | B19: 1 | C19: 1 | D19: 91 | E19: =D19/C19 -> 91
A20: Riley Inch | B20: 1 | C20: 1 | D20: 119 | E20: =D20/C20 -> 119
A21: Caleb Russell | B21: 1 | C21: 1 | D21: 120 | E21: =D21/C21 -> 120
A23: SMCC
A24: Golfer Name | B24: # of matches | C24: Total Rounds (.5 for 9 hole round) | D24: Strokes | E24: Stroke Average
A25: Asa Buteau | B25: 1 | C25: 1 | D25: 83 | E25: =D25/C25 -> 83
A26: Brandon Chilton | E26: =D26/C26 -> #DIV/0!
A27: Quinn Dillon | B27: 1 | C27: 1 | D27: 75 | E27: =D27/C27 -> 75
A28: Garrett Hedges | E28: =D28/C28 -> #DIV/0!
A29: Lucas Inman | B29: 1 | C29: 1 | D29: 82 | E29: =D29/C29 -> 82
A30: Christopher Keene | E30: =D30/C30 -> #DIV/0!
A31: Owen Lee | B31: 1 | C31: 1 | D31: 82 | E31: =D31/C31 -> 82
A32: Matthew Quigley | B32: 1 | C32: 1 | D32: 80 | E32: =D32/C32 -> 80
A33: Quincy Seavey | E33: =D33/C33 -> #DIV/0!
A34: Alexander Watts | E34: =D34/C34 -> #DIV/0!
A36: PSC
A37: Golfer Name | B37: # of matches | C37: Total Rounds (.5 for 9 hole round) | D37: Strokes | E37: Stroke Average
A38: Nick Porreca | B38: 1 | C38: 1 | D38: 95 | E38: =D38/C38 -> 95
A39: Owen Kime | B39: 1 | C39: 1 | D39: 97 | E39: =D39/C39 -> 97
A40: Sam Reynolds | B40: 1 | C40: 1 | D40: 100 | E40: =D40/C40 -> 100
A41: Zach Hale | B41: 1 | C41: 1 | D41: 102 | E41: =D41/C41 -> 102
A42: Gabe Clark | B42: 1 | C42: 1 | D42: 103 | E42: =D42/C42 -> 103
A43: Dominic Curley | B43: 1 | C43: 1 | D43: 108 | E43: =D43/C43 -> 108
A44: Aiden Oberle | B44: 1 | C44: 1 | D44: 108 | E44: =D44/C44 -> 108
A45: Josh Alexarian | B45: 1 | C45: 1 | D45: 140 | E45: =D45/C45 -> 140
A46: Tyson Smith | B46: 1 | C46: 1 | D46: 104 | E46: =D46/C46 -> 104
A47: Zach Zinzow | B47: 1 | C47: 1 | D47: 105 | E47: =D47/C47 -> 105
A48: Ryen Janus | B48: 1 | C48: 1 | D48: 112 | E48: =D48/C48 -> 112
A49: Nicholas Everett | B49: 1 | C49: 1 | D49: 117 | E49: =D49/C49 -> 117
A51: YCCC
A52: Golfer Name | B52: # of matches | C52: Total Rounds (.5 for 9 hole round) | D52: Strokes | E52: Stroke Average
A53: Dan Williams
A54: Liam Connors
A55: Nic Gagnon
A56: Emma Janousek
A57: Dominic Capello
A58: Luke Sullivan
A59: Amy Stanek
A61: KVCC
A62: Golfer Name | B62: # of matches | C62: Total Rounds (.5 for 9 hole round) | D62: Strokes | E62: Stroke Average
A63: Abbey Kemp
A64: Andrew Trombley
A65: Kenneth Hagen
A66: Colton Burge
A69: NHTI
A70: Golfer Name | B70: # of matches | C70: Total Rounds (.5 for 9 hole round) | D70: Strokes | E70: Stroke Average
A71: Cam Brown
A72: Caleb Szafran
A73: Kyle Ovitt
A74: Thomas Jackson
A77: CMCC
A78: Golfer Name | B78: # of matches | C78: Total Rounds (.5 for 9 hole round) | D78: Strokes | E78: Stroke Average
A79: Bryson Mattox
A80: Brady Kilby
A81: Logan Carpentet
A85: SMCC Women
A86: Golfer Name | B86: # of matches | C86: Total Rounds (.5 for 9 hole round) | D86: Strokes | E86: Stroke Average
A87: Charlotte Blanchard | B87: 1 | C87: 1 | D87: 91 | E87: =D87/C87 -> 91
A88: Sydney Pergerson | B88: 1 | C88: 1 | D88: 87 | E88: =D88/C88 -> 87
A89: Delaney Blake | B89: 1 | C89: 1 | D89: 103 | E89: =D89/C89 -> 103
A90: Emma Hajdasz | B90: 1 | C90: 1 | E90: =D90/C90 -> 0

Sheet NHTI 9-7
A2: NHTI Invitational
A3: Beaver Meadow Golf Club
A4: 72
A5: 5519
A6: GBCC
A7: Golfer Name | B7: # of matches | C7: Total Rounds (.5 for 9 hole round) | D7: Strokes | E7: Stroke Average
A8: Mike Rollick | E8: =D8/C8 -> #DIV/0!
A9: Tom Bullock | B9: 1 | C9: 1 | D9: 88 | E9: =D9/C9 -> 88
A10: Eric Moyer | B10: 1 | C10: 1 | D10: 98 | E10: =D10/C10 -> 98
A11: Brady Murphy | B11: 1 | C11: 1 | D11: 115 | E11: =D11/C11 -> 115
A12: Max Delaney | B12: 1 | C12: 1 | D12: 106 | E12: =D12/C12 -> 106
A13: Tyler Raeside | E13: =D13/C13 -> #DIV/0!
A15: UMA
A16: Golfer Name | B16: # of matches | C16: Total Rounds (.5 for 9 hole round) | D16: Strokes | E16: Stroke Average
A17: Theo Hustler | B17: 1 | C17: 1 | D17: 70 | E17: =D17/C17 -> 70
A18: Cole Chaplin | B18: 1 | C18: 1 | D18: 83 | E18: =D18/C18 -> 83
A19: Ryan Lai | B19: 1 | C19: 1 | D19: 79 | E19: =D19/C19 -> 79
A20: Grant Stubbs | B20: 1 | C20: 1 | D20: 82 | E20: =D20/C20 -> 82
A21: Riley Inch | B21: 1 | C21: 1 | D21: 104 | E21: =D21/C21 -> 104
A22: Caleb Russell | B22: 1 | C22: 1 | D22: 125 | E22: =D22/C22 -> 125
A24: SMCC
A25: Golfer Name | B25: # of matches | C25: Total Rounds (.5 for 9 hole round) | D25: Strokes | E25: Stroke Average
A26: Asa Buteau | E26: =D26/C26 -> #DIV/0!
A27: Brandon Chilton | B27: 1 | C27: 1 | D27: 88 | E27: =D27/C27 -> 88
A28: Quinn Dillon | B28: 1 | C28: 1 | D28: 75 | E28: =D28/C28 -> 75
A29: Garrett Hedges | E29: =D29/C29 -> #DIV/0!
A30: Lucas Inman | B30: 1 | C30: 1 | D30: 83 | E30: =D30/C30 -> 83
A31: Christopher Keene | E31: =D31/C31 -> #DIV/0!
A32: Owen Lee | B32: 1 | C32: 1 | D32: 76 | E32: =D32/C32 -> 76
A33: Matthew Quigley | B33: 1 | C33: 1 | D33: 85 | E33: =D33/C33 -> 85
A34: Quincy Seavey | E34: =D34/C34 -> #DIV/0!
A35: Alexander Watts | E35: =D35/C35 -> #DIV/0!
A37: PSC
A38: Golfer Name | B38: # of matches | C38: Total Rounds (.5 for 9 hole round) | D38: Strokes | E38: Stroke Average
A39: Nick Porreca | B39: 1 | C39: 1 | D39: 86 | E39: =D39/C39 -> 86
A40: Owen Kime | B40: 1 | C40: 1 | D40: 94 | E40: =D40/C40 -> 94
A41: Sam Reynolds | B41: 1 | C41: 1 | D41: 95 | E41: =D41/C41 -> 95
A42: Zach Hale | B42: 1 | C42: 1 | D42: 98 | E42: =D42/C42 -> 98
A43: Gabe Clark | B43: 1 | C43: 1 | D43: 97 | E43: =D43/C43 -> 97
A44: Dominic Curley
A45: Aiden Oberle | B45: 1 | C45: 1 | D45: 101 | E45: =D45/C45 -> 101
A46: Josh Alexarian
A47: Tyson Smith
A48: Zach Zinzow
A49: Ryen Janus
A50: Nicholas Everett
A52: YCCC
A53: Golfer Name | B53: # of matches | C53: Total Rounds (.5 for 9 hole round) | D53: Strokes | E53: Stroke Average
A54: Dan Williams
A55: Liam Connors
A56: Nic Gagnon
A57: Emma Janousek
A58: Dominic Capello
A59: Luke Sullivan
A60: Amy Stanek
A62: KVCC
A63: Golfer Name | B63: # of matches | C63: Total Rounds (.5 for 9 hole round) | D63: Strokes | E63: Stroke Average
A64: Abbey Kemp
A65: Andrew Trombley
A66: Kenneth Hagen
A67: Colton Burge
A70: NHTI
A71: Golfer Name | B71: # of matches | C71: Total Rounds (.5 for 9 hole round) | D71: Strokes | E71: Stroke Average
A72: Cam Brown | B72: 1 | C72: 1 | D72: 89 | E72: =D72/C72 -> 89
A73: Caleb Szafran | B73: 1 | C73: 1 | D73: 100 | E73: =D73/C73 -> 100
A74: Kyle Ovitt | B74: 1 | C74: 1 | D74: 113 | E74: =D74/C74 -> 113
A75: Thomas Jackson | B75: 1 | C75: 1 | D75: 117 | E75: =D75/C75 -> 117
A78: CMCC
A79: Golfer Name | B79: # of matches | C79: Total Rounds (.5 for 9 hole round) | D79: Strokes | E79: Stroke Average
A80: Bryson Mattox
A81: Brady Kilby
A82: Logan Carpentet
A86: SMCC Women
A87: Golfer Name | B87: # of matches | C87: Total Rounds (.5 for 9 hole round) | D87: Strokes | E87: Stroke Average
A88: Charlotte Blanchard | B88: 1 | C88: 1 | D88: 91 | E88: =D88/C88 -> 91
A89: Sydney Pergerson | B89: 1 | C89: 1 | D89: 87 | E89: =D89/C89 -> 87
A90: Delaney Blake | B90: 1 | C90: 1 | D90: 103 | E90: =D90/C90 -> 103
A91: Emma Hajdasz

Sheet cmcc 9-11
A1: Match @ CMCC
A2: Fairlawn Golf Course
A3: 36 (Front Nine Only)
A4: 3,164 (Front Nine Only)
A5: GBCC
A6: Golfer Name | B6: # of matches | C6: Total Rounds (.5 for 9 hole round) | D6: Strokes | E6: Stroke Average
A7: Mike Rollick
A8: Tom Bullock
A9: Eric Moyer
A10: Brady Murphy
A11: Max Delaney
A12: Tyler Raeside
A14: UMA
A15: Golfer Name | B15: # of matches | C15: Total Rounds (.5 for 9 hole round) | D15: Strokes | E15: Stroke Average
A16: Theo Hustler
A17: Cole Chaplin
A18: Ryan Lai
A19: Grant Stubbs
A20: Riley Inch
A21: Caleb Russell
A23: SMCC
A24: Golfer Name | B24: # of matches | C24: Total Rounds (.5 for 9 hole round) | D24: Strokes | E24: Stroke Average
A25: Asa Buteau
A26: Brandon Chilton
A27: Quinn Dillon
A28: Garrett Hedges
A29: Lucas Inman
A30: Christopher Keene
A31: Owen Lee
A32: Matthew Quigley
A33: Quincy Seavey
A34: Alexander Watts
A36: PSC
A37: Golfer Name | B37: # of matches | C37: Total Rounds (.5 for 9 hole round) | D37: Strokes | E37: Stroke Average
A38: Nick Porreca
A39: Owen Kime
A40: Sam Reynolds
A41: Zach Hale
A42: Gabe Clark
A43: Dominic Curley
A44: Aiden Oberle
A45: Josh Alexarian
A46: Tyson Smith
A47: Zach Zinzow
A48: Ryen Janus
A49: Nicholas Everett
A51: YCCC
A52: Golfer Name | B52: # of matches | C52: Total Rounds (.5 for 9 hole round) | D52: Strokes | E52: Stroke Average
A53: Dan Williams | B53: 1 | C53: 0.5 | D53: 48 | E53: =D53/C53 -> 96
A54: Liam Connors | B54: 1 | C54: 0.5 | D54: 48 | E54: =D54/C54 -> 96
A55: Nic Gagnon | B55: 1 | C55: 0.5 | D55: 90 | E55: =D55/C55 -> 180
A56: Emma Janousek | B56: 1 | C56: 0.5 | D56: 64 | E56: =D56/C56 -> 128
A57: Dominic Capello | B57: 1 | C57: 0.5 | D57: 64 | E57: =D57/C57 -> 128
A58: Luke Sullivan | B58: 1 | C58: 0.5 | D58: 66 | E58: =D58/C58 -> 132
A59: Amy Stanek | E59: =D59/C59 -> #DIV/0!
A61: KVCC
A62: Golfer Name | B62: # of matches | C62: Total Rounds (.5 for 9 hole round) | D62: Strokes | E62: Stroke Average
A63: Abbey Kemp
A64: Andrew Trombley
A65: Kenneth Hagen
A66: Colton Burge
A69: NHTI
A70: Golfer Name | B70: # of matches | C70: Total Rounds (.5 for 9 hole round) | D70: Strokes | E70: Stroke Average
A71: Cam Brown
A72: Caleb Szafran
A73: Kyle Ovitt
A74: Thomas Jackson
A77: CMCC
A78: Golfer Name | B78: # of matches | C78: Total Rounds (.5 for 9 hole round) | D78: Strokes | E78: Stroke Average
A79: Bryson Mattox
A80: Brady Kilby
A81: Logan Carpentet
A85: SMCC Women
A86: Golfer Name | B86: # of matches | C86: Total Rounds (.5 for 9 hole round) | D86: Strokes | E86: Stroke Average
A87: Charlotte Blanchard
A88: Sydney Pergerson
A89: Delaney Blake
A90: Emma Hajdasz

Sheet UMA 9-14
A1: UMA
A2: The Meadows Golf Club
A3: 68
A4: 5814
A5: GBCC
A6: Golfer Name | B6: # of matches | C6: Total Rounds (.5 for 9 hole round) | D6: Strokes | E6: Stroke Average
A7: Mike Rollick | B7: 1 | C7: 1 | D7: 84 | E7: =D7/C7 -> 84
A8: Tom Bullock | E8: =D8/C8 -> #DIV/0!
A9: Eric Moyer | B9: 1 | C9: 1 | D9: 106 | E9: =D9/C9 -> 106
A10: Brady Murphy | E10: =D10/C10 -> #DIV/0!
A11: Max Delaney | B11: 1 | C11: 1 | D11: 103 | E11: =D11/C11 -> 103
A12: Tyler Raeside | B12: 1 | C12: 1 | D12: 122 | E12: =D12/C12 -> 122
A14: UMA
A15: Golfer Name | B15: # of matches | C15: Total Rounds (.5 for 9 hole round) | D15: Strokes | E15: Stroke Average
A16: Theo Hustler | B16: 1 | C16: 1 | D16: 78 | E16: =D16/C16 -> 78
A17: Cole Chaplin | B17: 1 | C17: 1 | D17: 86 | E17: =D17/C17 -> 86
A18: Ryan Lai | B18: 1 | C18: 1 | D18: 79 | E18: =D18/C18 -> 79
A19: Grant Stubbs | B19: 1 | C19: 1 | D19: 85 | E19: =D19/C19 -> 85
A20: Riley Inch | B20: 1 | C20: 1 | D20: 104 | E20: =D20/C20 -> 104
A21: Caleb Russell
A23: SMCC
A24: Golfer Name | B24: # of matches | C24: Total Rounds (.5 for 9 hole round) | D24: Strokes | E24: Stroke Average
A25: Asa Buteau | B25: 1 | C25: 1 | D25: 83 | E25: =D25/C25 -> 83
A26: Brandon Chilton | E26: =D26/C26 -> #DIV/0!
A27: Quinn Dillon | E27: =D27/C27 -> #DIV/0!
A28: Garrett Hedges | E28: =D28/C28 -> #DIV/0!
A29: Lucas Inman | B29: 1 | C29: 1 | D29: 80 | E29: =D29/C29 -> 80
A30: Christopher Keene | E30: =D30/C30 -> #DIV/0!
A31: Owen Lee | B31: 1 | C31: 1 | D31: 81 | E31: =D31/C31 -> 81
A32: Matthew Quigley | B32: 1 | C32: 1 | D32: 80 | E32: =D32/C32 -> 80
A33: Quincy Seavey | E33: =D33/C33 -> #DIV/0!
A34: Alexander Watts | B34: 1 | C34: 1 | D34: 88 | E34: =D34/C34 -> 88
A36: PSC
A37: Golfer Name | B37: # of matches | C37: Total Rounds (.5 for 9 hole round) | D37: Strokes | E37: Stroke Average
A38: Nick Porreca | B38: 1 | C38: 1 | D38: 91 | E38: =D38/C38 -> 91
A39: Owen Kime | B39: 1 | C39: 1 | D39: 106 | E39: =D39/C39 -> 106
A40: Sam Reynolds | B40: 1 | C40: 1 | D40: 91 | E40: =D40/C40 -> 91
A41: Zach Hale | B41: 1 | C41: 1 | D41: 103 | E41: =D41/C41 -> 103
A42: Gabe Clark | B42: 1 | C42: 1 | D42: 102 | E42: =D42/C42 -> 102
A43: Dominic Curley | B43: 1 | C43: 1 | D43: 109 | E43: =D43/C43 -> 109
A44: Aiden Oberle | B44: 1 | C44: 1 | D44: 128 | E44: =D44/C44 -> 128
A45: Josh Alexarian
A46: Tyson Smith
A47: Zach Zinzow
A48: Ryen Janus
A49: Nicholas Everett | B49: 1 | C49: 1 | D49: 104 | E49: =D49/C49 -> 104
A51: YCCC
A52: Golfer Name | B52: # of matches | C52: Total Rounds (.5 for 9 hole round) | D52: Strokes | E52: Stroke Average
A53: Dan Williams | B53: 1 | C53: 1 | D53: 94 | E53: =D53/C53 -> 94
A54: Liam Connors | B54: 1 | C54: 1 | D54: 97 | E54: =D54/C54 -> 97
A55: Nic Gagnon | B55: 1 | C55: 1 | D55: 103 | E55: =D55/C55 -> 103
A56: Emma Janousek | B56: 1 | C56: 1 | E56: =D56/C56 -> 0
A57: Dominic Capello | B57: 1 | C57: 1 | D57: 100 | E57: =D57/C57 -> 100
A58: Luke Sullivan | B58: 1 | C58: 1 | D58: 132 | E58: =D58/C58 -> 132
A59: Amy Stanek
A61: KVCC
A62: Golfer Name | B62: # of matches | C62: Total Rounds (.5 for 9 hole round) | D62: Strokes | E62: Stroke Average
A63: Abbey Kemp | B63: 1 | C63: 1 | D63: 111 | E63: =D63/C63 -> 111
A64: Andrew Trombley | B64: 1 | C64: 1 | D64: 130 | E64: =D64/C64 -> 130
A65: Kenneth Hagen | B65: 1 | C65: 1 | D65: 114 | E65: =D65/C65 -> 114
A66: Colton Burge | B66: 1 | C66: 1 | D66: 111 | E66: =D66/C66 -> 111
A69: NHTI
A70: Golfer Name | B70: # of matches | C70: Total Rounds (.5 for 9 hole round) | D70: Strokes | E70: Stroke Average
A71: Cam Brown
A72: Caleb Szafran
A73: Kyle Ovitt
A74: Thomas Jackson
A77: CMCC
A78: Golfer Name | B78: # of matches | C78: Total Rounds (.5 for 9 hole round) | D78: Strokes | E78: Stroke Average
A79: Bryson Mattox
A80: Brady Kilby
A81: Logan Carpentet
A85: SMCC Women
A86: Golfer Name | B86: # of matches | C86: Total Rounds (.5 for 9 hole round) | D86: Strokes | E86: Stroke Average
A87: Charlotte Blanchard
A88: Sydney Pergerson
A89: Delaney Blake
A90: Emma Hajdasz

Sheet KVCC 9-17
A1: York County CC
A2: Kennebec Valley CC
A3: Fogg Brook Resort
A4: 72
A5: 6550
A6: GBCC
A7: Golfer Name | B7: # of matches | C7: Total Rounds (.5 for 9 hole round) | D7: Strokes | E7: Stroke Average
A8: Mike Rollick
A9: Tom Bullock
A10: Eric Moyer
A11: Brady Murphy
A12: Max Delaney
A13: Tyler Raeside
A15: UMA
A16: Golfer Name | B16: # of matches | C16: Total Rounds (.5 for 9 hole round) | D16: Strokes | E16: Stroke Average
A17: Theo Hustler
A18: Cole Chaplin
A19: Ryan Lai
A20: Grant Stubbs
A21: Riley Inch
A22: Caleb Russell
A24: SMCC
A25: Golfer Name | B25: # of matches | C25: Total Rounds (.5 for 9 hole round) | D25: Strokes | E25: Stroke Average
A26: Asa Buteau
A27: Brandon Chilton
A28: Quinn Dillon
A29: Garrett Hedges
A30: Lucas Inman
A31: Christopher Keene
A32: Owen Lee
A33: Matthew Quigley
A34: Quincy Seavey
A35: Alexander Watts
A37: PSC
A38: Golfer Name | B38: # of matches | C38: Total Rounds (.5 for 9 hole round) | D38: Strokes | E38: Stroke Average
A39: Nick Porreca
A40: Owen Kime
A41: Sam Reynolds
A42: Zach Hale
A43: Gabe Clark
A44: Dominic Curley
A45: Aiden Oberle
A46: Josh Alexarian
A47: Tyson Smith
A48: Zach Zinzow
A49: Ryen Janus
A50: Nicholas Everett
A52: YCCC
A53: Golfer Name | B53: # of matches | C53: Total Rounds (.5 for 9 hole round) | D53: Strokes | E53: Stroke Average
A54: Dan Williams | B54: 1 | C54: 0.5 | D54: 49 | E54: =D54/C54 -> 98
A55: Liam Connors | B55: 1 | C55: 0.5 | D55: 51 | E55: =D55/C55 -> 102
A56: Nic Gagnon | B56: 1 | C56: 0.5 | D56: 59 | E56: =D56/C56 -> 118
A57: Emma Janousek | B57: 1 | C57: 0.5 | D57: 64 | E57: =D57/C57 -> 128
A58: Dominic Capello
A59: Luke Sullivan
A60: Amy Stanek
A62: KVCC
A63: Golfer Name | B63: # of matches | C63: Total Rounds (.5 for 9 hole round) | D63: Strokes | E63: Stroke Average
A64: Abbey Kemp | B64: 1 | C64: 0.5 | D64: 69 | E64: =D64/C64 -> 138
A65: Andrew Trombley | B65: 1 | C65: 0.5 | D65: 61 | E65: =D65/C65 -> 122
A66: Kenneth Hagen | B66: 1 | C66: 0.5 | D66: 59 | E66: =D66/C66 -> 118
A67: Colton Burge | B67: 1 | C67: 0.5 | D67: 49 | E67: =D67/C67 -> 98
A70: NHTI
A71: Golfer Name | B71: # of matches | C71: Total Rounds (.5 for 9 hole round) | D71: Strokes | E71: Stroke Average
A72: Cam Brown
A73: Caleb Szafran
A74: Kyle Ovitt
A75: Thomas Jackson
A78: CMCC
A79: Golfer Name | B79: # of matches | C79: Total Rounds (.5 for 9 hole round) | D79: Strokes | E79: Stroke Average
A80: Bryson Mattox
A81: Brady Kilby
A82: Logan Carpentet
A86: SMCC Women
A87: Golfer Name | B87: # of matches | C87: Total Rounds (.5 for 9 hole round) | D87: Strokes | E87: Stroke Average
A88: Charlotte Blanchard
A89: Sydney Pergerson
A90: Delaney Blake
A91: Emma Hajdasz

Sheet CMCC 9-21
A1: CMCC-Mustang Invitational
A2: Fairlawn Golf Course
A3: 70.5
A4: 6317
A5: GBCC
A6: Golfer Name | B6: # of matches | C6: Total Rounds (.5 for 9 hole round) | D6: Strokes | E6: Stroke Average
A7: Mike Rollick
A8: Tom Bullock
A9: Eric Moyer
A10: Brady Murphy
A11: Max Delaney
A12: Tyler Raeside
A14: UMA
A15: Golfer Name | B15: # of matches | C15: Total Rounds (.5 for 9 hole round) | D15: Strokes | E15: Stroke Average
A16: Theo Hustler | B16: 1 | C16: 1 | D16: 80 | E16: =D16/C16 -> 80
A17: Cole Chaplin | B17: 1 | C17: 1 | D17: 83 | E17: =D17/C17 -> 83
A18: Ryan Lai | B18: 1 | C18: 1 | D18: 75 | E18: =D18/C18 -> 75
A19: Grant Stubbs | B19: 1 | C19: 1 | D19: 83 | E19: =D19/C19 -> 83
A20: Riley Inch | B20: 1 | C20: 1 | D20: 85 | E20: =D20/C20 -> 85
A21: Caleb Russell
A23: SMCC
A24: Golfer Name | B24: # of matches | C24: Total Rounds (.5 for 9 hole round) | D24: Strokes | E24: Stroke Average
A25: Asa Buteau
A26: Brandon Chilton
A27: Quinn Dillon
A28: Garrett Hedges
A29: Lucas Inman
A30: Christopher Keene
A31: Owen Lee
A32: Matthew Quigley
A33: Quincy Seavey
A34: Alexander Watts
A36: PSC
A37: Golfer Name | B37: # of matches | C37: Total Rounds (.5 for 9 hole round) | D37: Strokes | E37: Stroke Average
A38: Nick Porreca
A39: Owen Kime
A40: Sam Reynolds
A41: Zach Hale
A42: Gabe Clark
A43: Dominic Curley
A44: Aiden Oberle
A45: Josh Alexarian
A46: Tyson Smith
A47: Zach Zinzow
A48: Ryen Janus
A49: Nicholas Everett
A51: YCCC
A52: Golfer Name | B52: # of matches | C52: Total Rounds (.5 for 9 hole round) | D52: Strokes | E52: Stroke Average
A53: Dan Williams
A54: Liam Connors
A55: Nic Gagnon
A56: Emma Janousek
A57: Dominic Capello
A58: Luke Sullivan
A59: Amy Stanek
A61: KVCC
A62: Golfer Name | B62: # of matches | C62: Total Rounds (.5 for 9 hole round) | D62: Strokes | E62: Stroke Average
A63: Abbey Kemp | B63: 1 | C63: 1 | D63: 106 | E63: =D63/C63 -> 106
A64: Andrew Trombley
A65: Kenneth Hagen | B65: 1 | C65: 1 | D65: 107 | E65: =D65/C65 -> 107
A66: Colton Burge | B66: 1 | C66: 1 | D66: 105 | E66: =D66/C66 -> 105
A69: NHTI
A70: Golfer Name | B70: # of matches | C70: Total Rounds (.5 for 9 hole round) | D70: Strokes | E70: Stroke Average
A71: Cam Brown
A72: Caleb Szafran
A73: Kyle Ovitt
A74: Thomas Jackson
A77: CMCC
A78: Golfer Name | B78: # of matches | C78: Total Rounds (.5 for 9 hole round) | D78: Strokes | E78: Stroke Average
A79: Bryson Mattox
A80: Brady Kilby
A81: Logan Carpentet
A85: SMCC Women
A86: Golfer Name | B86: # of matches | C86: Total Rounds (.5 for 9 hole round) | D86: Strokes | E86: Stroke Average
A87: Charlotte Blanchard
A88: Sydney Pergerson
A89: Delaney Blake
A90: Emma Hajdasz

Sheet SMCC9-22
A1: SMCC Invitational
A2: Purpoodock
A3: 71
A4: 6106
A5: GBCC
A6: Golfer Name | B6: # of matches | C6: Total Rounds (.5 for 9 hole round) | D6: Strokes | E6: Stroke Average
A7: Mike Rollick | B7: 1 | C7: 1 | D7: 90 | E7: =D7/C7 -> 90
A8: Tom Bullock | E8: =D8/C8 -> #DIV/0!
A9: Eric Moyer | B9: 1 | C9: 1 | D9: 109 | E9: =D9/C9 -> 109
A10: Brady Murphy | E10: =D10/C10 -> #DIV/0!
A11: Max Delaney | E11: =D11/C11 -> #DIV/0!
A12: Tyler Raeside | B12: 1 | C12: 1 | D12: 118 | E12: =D12/C12 -> 118
A14: UMA
A15: Golfer Name | B15: # of matches | C15: Total Rounds (.5 for 9 hole round) | D15: Strokes | E15: Stroke Average
A16: Theo Hustler
A17: Cole Chaplin
A18: Ryan Lai
A19: Grant Stubbs
A20: Riley Inch
A21: Caleb Russell
A23: SMCC
A24: Golfer Name | B24: # of matches | C24: Total Rounds (.5 for 9 hole round) | D24: Strokes | E24: Stroke Average
A25: Asa Buteau | B25: 1 | C25: 1 | D25: 84 | E25: =D25/C25 -> 84
A26: Brandon Chilton | B26: 1 | C26: 1 | D26: 91 | E26: =D26/C26 -> 91
A27: Quinn Dillon | B27: 1 | C27: 1 | D27: 78 | E27: =D27/C27 -> 78
A28: Garrett Hedges | B28: 1 | C28: 1 | D28: 108 | E28: =D28/C28 -> 108
A29: Lucas Inman | B29: 1 | C29: 1 | D29: 87 | E29: =D29/C29 -> 87
A30: Christopher Keene | B30: 1 | C30: 1 | D30: 89 | E30: =D30/C30 -> 89
A31: Owen Lee | B31: 1 | C31: 1 | D31: 77 | E31: =D31/C31 -> 77
A32: Matthew Quigley | B32: 1 | C32: 1 | D32: 82 | E32: =D32/C32 -> 82
A33: Quincy Seavey | B33: 0 | C33: 0 | E33: =D33/C33 -> #DIV/0!
A34: Alexander Watts | B34: 1 | C34: 1 | D34: 83 | E34: =D34/C34 -> 83
A36: PSC
A37: Golfer Name | B37: # of matches | C37: Total Rounds (.5 for 9 hole round) | D37: Strokes | E37: Stroke Average
A38: Nick Porreca | B38: 1 | C38: 1 | D38: 97 | E38: =D38/C38 -> 97
A39: Owen Kime | B39: 1 | C39: 1 | D39: 100 | E39: =D39/C39 -> 100
A40: Sam Reynolds | B40: 1 | C40: 1 | D40: 101 | E40: =D40/C40 -> 101
A41: Zach Hale | B41: 1 | C41: 1 | D41: 103 | E41: =D41/C41 -> 103
A42: Gabe Clark | B42: 1 | C42: 1 | D42: 105 | E42: =D42/C42 -> 105
A43: Dominic Curley
A44: Aiden Oberle
A45: Josh Alexarian
A46: Tyson Smith
A47: Zach Zinzow
A48: Ryen Janus
A49: Nicholas Everett
A51: YCCC
A52: Golfer Name | B52: # of matches | C52: Total Rounds (.5 for 9 hole round) | D52: Strokes | E52: Stroke Average
A53: Dan Williams
A54: Liam Connors
A55: Nic Gagnon
A56: Emma Janousek
A57: Dominic Capello
A58: Luke Sullivan
A59: Amy Stanek
A61: KVCC
A62: Golfer Name | B62: # of matches | C62: Total Rounds (.5 for 9 hole round) | D62: Strokes | E62: Stroke Average
A63: Abbey Kemp
A64: Andrew Trombley
A65: Kenneth Hagen
A66: Colton Burge
A69: NHTI
A70: Golfer Name | B70: # of matches | C70: Total Rounds (.5 for 9 hole round) | D70: Strokes | E70: Stroke Average
A71: Cam Brown | B71: 1 | C71: 1 | D71: 92 | E71: =D71/C71 -> 92
A72: Caleb Szafran
A73: Kyle Ovitt | B73: 1 | C73: 1 | D73: 111 | E73: =D73/C73 -> 111
A74: Thomas Jackson | B74: 1 | C74: 1 | D74: 107 | E74: =D74/C74 -> 107
A77: CMCC
A78: Golfer Name | B78: # of matches | C78: Total Rounds (.5 for 9 hole round) | D78: Strokes | E78: Stroke Average
A79: Bryson Mattox | B79: 1 | C79: 1 | D79: 88 | E79: =D79/C79 -> 88
A80: Brady Kilby | B80: 1 | C80: 1 | D80: 90 | E80: =D80/C80 -> 90
A81: Logan Carpentet | B81: 1 | C81: 1 | D81: 95 | E81: =D81/C81 -> 95
A85: SMCC Women
A86: Golfer Name | B86: # of matches | C86: Total Rounds (.5 for 9 hole round) | D86: Strokes | E86: Stroke Average
A87: Charlotte Blanchard
A88: Sydney Pergerson
A89: Delaney Blake
A90: Emma Hajdasz

Sheet YCCC9-23
A1: YCCC Mini Match w/ KVCC
A2: Cape Neddick
A3: 70
A4: 6257
A5: GBCC
A6: Golfer Name | B6: # of matches | C6: Total Rounds (.5 for 9 hole round) | D6: Strokes | E6: Stroke Average
A7: Mike Rollick
A8: Tom Bullock
A9: Eric Moyer
A10: Brady Murphy
A11: Max Delaney
A12: Tyler Raeside
A14: UMA
A15: Golfer Name | B15: # of matches | C15: Total Rounds (.5 for 9 hole round) | D15: Strokes | E15: Stroke Average
A16: Theo Hustler
A17: Cole Chaplin
A18: Ryan Lai
A19: Grant Stubbs
A20: Riley Inch
A21: Caleb Russell
A23: SMCC
A24: Golfer Name | B24: # of matches | C24: Total Rounds (.5 for 9 hole round) | D24: Strokes | E24: Stroke Average
A25: Asa Buteau
A26: Brandon Chilton
A27: Quinn Dillon
A28: Garrett Hedges
A29: Lucas Inman
A30: Christopher Keene
A31: Owen Lee
A32: Matthew Quigley
A33: Quincy Seavey
A34: Alexander Watts
A36: PSC
A37: Golfer Name | B37: # of matches | C37: Total Rounds (.5 for 9 hole round) | D37: Strokes | E37: Stroke Average
A38: Nick Porreca
A39: Owen Kime
A40: Sam Reynolds
A41: Zach Hale
A42: Gabe Clark
A43: Dominic Curley
A44: Aiden Oberle
A45: Josh Alexarian
A46: Tyson Smith
A47: Zach Zinzow
A48: Ryen Janus
A49: Nicholas Everett
A51: YCCC
A52: Golfer Name | B52: # of matches | C52: Total Rounds (.5 for 9 hole round) | D52: Strokes | E52: Stroke Average
A53: Dan Williams | B53: 1 | C53: 0.5 | D53: 43 | E53: =D53/C53 -> 86
A54: Liam Connors | B54: 1 | C54: 0.5 | D54: 47 | E54: =D54/C54 -> 94
A55: Nic Gagnon | B55: 1 | C55: 0.5 | D55: 61 | E55: =D55/C55 -> 122
A56: Emma Janousek | B56: 1 | C56: 0.5 | D56: 60 | E56: =D56/C56 -> 120
A57: Dominic Capello
A58: Luke Sullivan | B58: 1 | C58: 0.5 | D58: 59 | E58: =D58/C58 -> 118
A59: Amy Stanek | B59: 1 | C59: 0.5 | D59: 52 | E59: =D59/C59 -> 104
A61: KVCC
A62: Golfer Name | B62: # of matches | C62: Total Rounds (.5 for 9 hole round) | D62: Strokes | E62: Stroke Average
A63: Abbey Kemp | B63: 1 | C63: 0.5 | D63: 48 | E63: =D63/C63 -> 96
A64: Andrew Trombley
A65: Kenneth Hagen
A66: Colton Burge | B66: 1 | C66: 0.5 | D66: 59 | E66: =D66/C66 -> 118
A69: NHTI
A70: Golfer Name | B70: # of matches | C70: Total Rounds (.5 for 9 hole round) | D70: Strokes | E70: Stroke Average
A71: Cam Brown
A72: Caleb Szafran
A73: Kyle Ovitt
A74: Thomas Jackson
A77: CMCC
A78: Golfer Name | B78: # of matches | C78: Total Rounds (.5 for 9 hole round) | D78: Strokes | E78: Stroke Average
A79: Bryson Mattox
A80: Brady Kilby
A81: Logan Carpentet
A85: SMCC Women
A86: Golfer Name | B86: # of matches | C86: Total Rounds (.5 for 9 hole round) | D86: Strokes | E86: Stroke Average
A87: Charlotte Blanchard
A88: Sydney Pergerson
A89: Delaney Blake
A90: Emma Hajdasz

Sheet smcc9-26
A1: SMCC
A2: Purpoodock
A3: 71
A4: 6106
A5: GBCC
A6: Golfer Name | B6: # of matches | C6: Total Rounds (.5 for 9 hole round) | D6: Strokes | E6: Stroke Average
A7: Mike Rollick | E7: =D7/C7 -> #DIV/0!
A8: Tom Bullock
A9: Eric Moyer
A10: Brady Murphy
A11: Max Delaney
A12: Tyler Raeside
A14: UMA
A15: Golfer Name | B15: # of matches | C15: Total Rounds (.5 for 9 hole round) | D15: Strokes | E15: Stroke Average
A16: Theo Hustler
A17: Cole Chaplin
A18: Ryan Lai
A19: Grant Stubbs
A20: Riley Inch
A21: Caleb Russell
A23: SMCC
A24: Golfer Name | B24: # of matches | C24: Total Rounds (.5 for 9 hole round) | D24: Strokes | E24: Stroke Average
A25: Asa Buteau
A26: Brandon Chilton
A27: Quinn Dillon
A28: Garrett Hedges
A29: Lucas Inman
A30: Christopher Keene
A31: Owen Lee
A32: Matthew Quigley
A33: Quincy Seavey
A34: Alexander Watts
A36: PSC
A37: Golfer Name | B37: # of matches | C37: Total Rounds (.5 for 9 hole round) | D37: Strokes | E37: Stroke Average
A38: Nick Porreca
A39: Owen Kime
A40: Sam Reynolds
A41: Zach Hale
A42: Gabe Clark
A43: Dominic Curley
A44: Aiden Oberle
A45: Josh Alexarian
A46: Tyson Smith
A47: Zach Zinzow
A48: Ryen Janus
A49: Nicholas Everett
A51: YCCC
A52: Golfer Name | B52: # of matches | C52: Total Rounds (.5 for 9 hole round) | D52: Strokes | E52: Stroke Average
A53: Dan Williams
A54: Liam Connors
A55: Nic Gagnon
A56: Emma Janousek
A57: Dominic Capello
A58: Luke Sullivan
A59: Amy Stanek
A61: KVCC
A62: Golfer Name | B62: # of matches | C62: Total Rounds (.5 for 9 hole round) | D62: Strokes | E62: Stroke Average
A63: Abbey Kemp
A64: Andrew Trombley
A65: Kenneth Hagen
A66: Colton Burge
A69: NHTI
A70: Golfer Name | B70: # of matches | C70: Total Rounds (.5 for 9 hole round) | D70: Strokes | E70: Stroke Average
A71: Cam Brown
A72: Caleb Szafran
A73: Kyle Ovitt
A74: Thomas Jackson
A77: CMCC
A78: Golfer Name | B78: # of matches | C78: Total Rounds (.5 for 9 hole round) | D78: Strokes | E78: Stroke Average
A79: Bryson Mattox
A80: Brady Kilby
A81: Logan Carpentet
A85: SMCC Women
A86: Golfer Name | B86: # of matches | C86: Total Rounds (.5 for 9 hole round) | D86: Strokes | E86: Stroke Average
A87: Charlotte Blanchard
A88: Sydney Pergerson
A89: Delaney Blake
A90: Emma Hajdasz

Sheet Nippo 9-28
A1: GBCC / NHTI Match
A2: Nippo Lake Golf Club
A3: 70
A4: 5594
A5: GBCC
A6: Golfer Name | B6: # of matches | C6: Total Rounds (.5 for 9 hole round) | D6: Strokes | E6: Stroke Average
A7: Mike Rollick | E7: =D7/C7 -> #DIV/0!
A8: Tom Bullock
A9: Eric Moyer
A10: Brady Murphy
A11: Max Delaney
A12: Tyler Raeside
A14: UMA
A15: Golfer Name
A16: Theo Hustler
A17: Cole Chaplin
A18: Ryan Lai
A19: Grant Stubbs
A20: Riley Inch
... A90: Emma Hajdasz

Sheet UMF10-3
A1: GBCC / NHTI Match
A2: Nippo Lake Golf Club
A3: 70
A4: 5594
A5: GBCC
A6: Golfer Name | B6: # of matches | C6: Total Rounds (.5 for 9 hole round) | D6: Strokes | E6: Stroke Average
A7: Mike Rollick | E7: =D7/C7 -> #DIV/0!
A8: Tom Bullock
A9: Eric Moyer
A10: Brady Murphy
A11: Max Delaney
A12: Tyler Raeside
A14: UMA
A15: Golfer Name | B15: # of matches | C15: Total Rounds (.5 for 9 hole round) | D15: Strokes | E15: Stroke Average
A16: Theo Hustler
A17: Cole Chaplin
A18: Ryan Lai
A19: Grant Stubbs
A20: Riley Inch
A21: Caleb Russell
A23: SMCC
A24: Golfer Name | B24: # of matches | C24: Total Rounds (.5 for 9 hole round) | D24: Strokes | E24: Stroke Average
A25: Asa Buteau
A26: Brandon Chilton
A27: Quinn Dillon
A28: Garrett Hedges
A29: Lucas Inman
A30: Christopher Keene
A31: Owen Lee
A32: Matthew Quigley
A33: Quincy Seavey
A34: Alexander Watts
A36: PSC
A37: Golfer Name | B37: # of matches | C37: Total Rounds (.5 for 9 hole round) | D37: Strokes | E37: Stroke Average
A38: Nick Porreca
A39: Owen Kime
A40: Sam Reynolds
A41: Zach Hale
A42: Gabe Clark
A43: Dominic Curley
A44: Aiden Oberle
A45: Josh Alexarian
A46: Tyson Smith
A47: Zach Zinzow
A48: Ryen Janus
A49: Nicholas Everett
A51: YCCC
A52: Golfer Name | B52: # of matches | C52: Total Rounds (.5 for 9 hole round) | D52: Strokes | E52: Stroke Average
A53: Dan Williams
A54: Liam Connors
A55: Nic Gagnon
A56: Emma Janousek
A57: Dominic Capello
A58: Luke Sullivan
A59: Amy Stanek
A61: KVCC
A62: Golfer Name | B62: # of matches | C62: Total Rounds (.5 for 9 hole round) | D62: Strokes | E62: Stroke Average
A63: Abbey Kemp
A64: Andrew Trombley
A65: Kenneth Hagen
A66: Colton Burge
A69: NHTI
A70: Golfer Name | B70: # of matches | C70: Total Rounds (.5 for 9 hole round) | D70: Strokes | E70: Stroke Average
A71: Cam Brown
A72: Caleb Szafran
A73: Kyle Ovitt
A74: Thomas Jackson
A77: CMCC
A78: Golfer Name | B78: # of matches | C78: Total Rounds (.5 for 9 hole round) | D78: Strokes | E78: Stroke Average
A79: Bryson Mattox
A80: Brady Kilby
A81: Logan Carpentet
A85: SMCC Women
A86: Golfer Name | B86: # of matches | C86: Total Rounds (.5 for 9 hole round) | D86: Strokes | E86: Stroke Average
A87: Charlotte Blanchard
A88: Sydney Pergerson
A89: Delaney Blake
A90: Emma Hajdasz

Sheet YSCC Championships
A1: Sunday, October 6th
A2: YSCC Championships
A3: Pease Golf Course
A4: 71
A5: 5794
A6: GBCC
A7: Golfer Name | B7: # of matches | C7: Total Rounds (.5 for 9 hole round) | D7: Strokes | E7: Stroke Average
A8: Mike Rollick | E8: =D8/C8 -> #DIV/0!
A9: Tom Bullock | E9: =D9/C9 -> #DIV/0!
A10: Eric Moyer | E10: =D10/C10 -> #DIV/0!
A11: Brady Murphy | E11: =D11/C11 -> #DIV/0!
A12: Max Delaney | E12: =D12/C12 -> #DIV/0!
A13: Tyler Raeside | E13: =D13/C13 -> #DIV/0!
A15: UMA
A16: Golfer Name | B16: # of matches | C16: Total Rounds (.5 for 9 hole round) | D16: Strokes | E16: Stroke Average
A17: Theo Hustler | E17: =D17/C17 -> #DIV/0!
A18: Cole Chaplin | E18: =D18/C18 -> #DIV/0!
A19: Ryan Lai | E19: =D19/C19 -> #DIV/0!
A20: Grant Stubbs | E20: =D20/C20 -> #DIV/0!
A21: Riley Inch | E21: =D21/C21 -> #DIV/0!
A22: Caleb Russell | E22: =D22/C22 -> #DIV/0!
A24: SMCC
A25: Golfer Name | B25: # of matches | C25: Total Rounds (.5 for 9 hole round) | D25: Strokes | E25: Stroke Average
A26: Asa Buteau | E26: =D26/C26 -> #DIV/0!
A27: Brandon Chilton | E27: =D27/C27 -> #DIV/0!
A28: Quinn Dillon | E28: =D28/C28 -> #DIV/0!
A29: Garrett Hedges | E29: =D29/C29 -> #DIV/0!
A30: Lucas Inman | E30: =D30/C30 -> #DIV/0!
A31: Christopher Keene | E31: =D31/C31 -> #DIV/0!
A32: Owen Lee | E32: =D32/C32 -> #DIV/0!
A33: Matthew Quigley | E33: =D33/C33 -> #DIV/0!
A34: Quincy Seavey | E34: =D34/C34 -> #DIV/0!
A35: Alexander Watts | E35: =D35/C35 -> #DIV/0!
A37: PSC
A38: Golfer Name | B38: # of matches | C38: Total Rounds (.5 for 9 hole round) | D38: Strokes | E38: Stroke Average
A39: Nick Porreca | E39: =D39/C39 -> #DIV/0!
A40: Owen Kime | E40: =D40/C40 -> #DIV/0!
A41: Sam Reynolds | E41: =D41/C41 -> #DIV/0!
A42: Zach Hale | E42: =D42/C42 -> #DIV/0!
A43: Gabe Clark | E43: =D43/C43 -> #DIV/0!
A44: Dominic Curley | E44: =D44/C44 -> #DIV/0!
A45: Aiden Oberle | E45: =D45/C45 -> #DIV/0!
A46: Josh Alexarian | E46: =D46/C46 -> #DIV/0!
A47: Tyson Smith | E47: =D47/C47 -> #DIV/0!
A48: Zach Zinzow | E48: =D48/C48 -> #DIV/0!
A49: Ryen Janus | E49: =D49/C49 -> #DIV/0!
A50: Nicholas Everett | E50: =D50/C50 -> #DIV/0!
A52: YCCC
A53: Golfer Name | B53: # of matches | C53: Total Rounds (.5 for 9 hole round) | D53: Strokes | E53: Stroke Average
A54: Dan Williams | E54: =D54/C54 -> #DIV/0!
A55: Liam Connors | E55: =D55/C55 -> #DIV/0!
A56: Nic Gagnon | E56: =D56/C56 -> #DIV/0!
A57: Emma Janousek | E57: =D57/C57 -> #DIV/0!
A58: Dominic Capello | E58: =D58/C58 -> #DIV/0!
A59: Luke Sullivan | E59: =D59/C59 -> #DIV/0!
A60: Amy Stanek | E60: =D60/C60 -> #DIV/0!
A62: KVCC
A63: Golfer Name | B63: # of matches | C63: Total Rounds (.5 for 9 hole round) | D63: Strokes | E63: Stroke Average
A64: Abbey Kemp | E64: =D64/C64 -> #DIV/0!
A65: Andrew Trombley | E65: =D65/C65 -> #DIV/0!
A66: Kenneth Hagen | E66: =D66/C66 -> #DIV/0!
A67: Colton Burge | E67: =D67/C67 -> #DIV/0!
E68: =D68/C68 -> #DIV/0!
A70: NHTI
A71: Golfer Name | B71: # of matches | C71: Total Rounds (.5 for 9 hole round) | D71: Strokes | E71: Stroke Average
A72: Cam Brown | E72: =D72/C72 -> #DIV/0!
A73: Caleb Szafran | E73: =D73/C73 -> #DIV/0!
A74: Kyle Ovitt | E74: =D74/C74 -> #DIV/0!
A75: Thomas Jackson | E75: =D75/C75 -> #DIV/0!
A78: CMCC
A79: Golfer Name | B79: # of matches | C79: Total Rounds (.5 for 9 hole round) | D79: Strokes | E79: Stroke Average
A80: Bryson Mattox | E80: =D80/C80 -> #DIV/0!
A81: Brady Kilby | E81: =D81/C81 -> #DIV/0!
A82: Logan Carpentet | E82: =D82/C82 -> #DIV/0!
A86: SMCC Women
A87: Golfer Name | B87: # of matches | C87: Total Rounds (.5 for 9 hole round) | D87: Strokes | E87: Stroke Average
A88: Charlotte Blanchard | E88: =D88/C88 -> #DIV/0!
A89: Sydney Pergerson | E89: =D89/C89 -> #DIV/0!
A90: Delaney Blake | E90: =D90/C90 -> #DIV/0!
A91: Emma Hajdasz | E91: =D91/C91 -> #DIV/0!

Sheet Final Totals
A3: GBCC | I3: Will be accurate after we enter results on 10/6
A4: Golfer Name | B4: # of matches | C4: Total Rounds (.5 for 9 hole round) | D4: Strokes | E4: Stroke Average (pre yscc tournament) | F4: Strokes on 10/6 | G4: totals rounds | H4: Total Strokes | I4: Final Average
A5: Mike Rollick | B5: =('PSC8-24'!B7+'NHTI 9-7'!B8+'cmcc 9-11'!B7+'UMA 9-14'!B7+'KVCC 9-17'!B8+'CMCC 9-21'!B7+'SMCC9-22'!B7+'YCCC9-23'!B7+'smcc9-26'!B7+'Nippo 9-28'!B7+'UMF10-3'!B7+'YSCC Championships'!B8) -> 2 | C5: =('PSC8-24'!C7+'NHTI 9-7'!C8+'cmcc 9-11'!C7+'UMA 9-14'!C7+'KVCC 9-17'!C8+'CMCC 9-21'!C7+'SMCC9-22'!C7+'YCCC9-23'!C7+'smcc9-26'!C7+'Nippo 9-28'!C7+'UMF10-3'!C7+'YSCC Championships'!C8) -> 2 | D5: =('PSC8-24'!D7+'NHTI 9-7'!D8+'cmcc 9-11'!D7+'UMA 9-14'!D7+'KVCC 9-17'!D8+'CMCC 9-21'!D7+'SMCC9-22'!D7+'YCCC9-23'!D7+'smcc9-26'!D7+'Nippo 9-28'!D7+'UMF10-3'!D7+'YSCC Championships'!D8) -> 174 | E5: =D5/C5 -> 87 | G5: =C5+1 -> 3 | H5: =D5+F5 -> 174 | I5: =H5/G5 -> 58
A6: Tom Bullock | B6: =('PSC8-24'!B8+'NHTI 9-7'!B9+'cmcc 9-11'!B8+'UMA 9-14'!B8+'KVCC 9-17'!B9+'CMCC 9-21'!B8+'SMCC9-22'!B8+'YCCC9-23'!B8+'smcc9-26'!B8+'Nippo 9-28'!B8+'UMF10-3'!B8+'YSCC Championships'!B9) -> 1 | C6: =('PSC8-24'!C8+'NHTI 9-7'!C9+'cmcc 9-11'!C8+'UMA 9-14'!C8+'KVCC 9-17'!C9+'CMCC 9-21'!C8+'SMCC9-22'!C8+'YCCC9-23'!C8+'smcc9-26'!C8+'Nippo 9-28'!C8+'UMF10-3'!C8+'YSCC Championships'!C9) -> 1 | D6: =('PSC8-24'!D8+'NHTI 9-7'!D9+'cmcc 9-11'!D8+'UMA 9-14'!D8+'KVCC 9-17'!D9+'CMCC 9-21'!D8+'SMCC9-22'!D8+'YCCC9-23'!D8+'smcc9-26'!D8+'Nippo 9-28'!D8+'UMF10-3'!D8+'YSCC Championships'!D9) -> 88 | E6: =D6/C6 -> 88 | G6: =C6+1 -> 2 | H6: =D6+F6 -> 88 | I6: =H6/G6 -> 44
A7: Eric Moyer | B7: =('PSC8-24'!B9+'NHTI 9-7'!B10+'cmcc 9-11'!B9+'UMA 9-14'!B9+'KVCC 9-17'!B10+'CMCC 9-21'!B9+'SMCC9-22'!B9+'YCCC9-23'!B9+'smcc9-26'!B9+'Nippo 9-28'!B9+'UMF10-3'!B9+'YSCC Championships'!B10) -> 3 | C7: =('PSC8-24'!C9+'NHTI 9-7'!C10+'cmcc 9-11'!C9+'UMA 9-14'!C9+'KVCC 9-17'!C10+'CMCC 9-21'!C9+'SMCC9-22'!C9+'YCCC9-23'!C9+'smcc9-26'!C9+'Nippo 9-28'!C9+'UMF10-3'!C9+'YSCC Championships'!C10) -> 3 | D7: =('PSC8-24'!D9+'NHTI 9-7'!D10+'cmcc 9-11'!D9+'UMA 9-14'!D9+'KVCC 9-17'!D10+'CMCC 9-21'!D9+'SMCC9-22'!D9+'YCCC9-23'!D9+'smcc9-26'!D9+'Nippo 9-28'!D9+'UMF10-3'!D9+'YSCC Championships'!D10) -> 313 | E7: =D7/C7 -> 104.33333 | G7: =C7+1 -> 4 | H7: =D7+F7 -> 313 | I7: =H7/G7 -> 78.25
A8: Brady Murphy | B8: =('PSC8-24'!B10+'NHTI 9-7'!B11+'cmcc 9-11'!B10+'UMA 9-14'!B10+'KVCC 9-17'!B11+'CMCC 9-21'!B10+'SMCC9-22'!B10+'YCCC9-23'!B10+'smcc9-26'!B10+'Nippo 9-28'!B10+'UMF10-3'!B10+'YSCC Championships'!B11) -> 1 | C8: =('PSC8-24'!C10+'NHTI 9-7'!C11+'cmcc 9-11'!C10+'UMA 9-14'!C10+'KVCC 9-17'!C11+'CMCC 9-21'!C10+'SMCC9-22'!C10+'YCCC9-23'!C10+'smcc9-26'!C10+'Nippo 9-28'!C10+'UMF10-3'!C10+'YSCC Championships'!C11) -> 1 | D8: =('PSC8-24'!D10+'NHTI 9-7'!D11+'cmcc 9-11'!D10+'UMA 9-14'!D10+'KVCC 9-17'!D11+'CMCC 9-21'!D10+'SMCC9-22'!D10+'YCCC9-23'!D10+'smcc9-26'!D10+'Nippo 9-28'!D10+'UMF10-3'!D10+'YSCC Championships'!D11) -> 115 | E8: =D8/C8 -> 115 | G8: =C8+1 -> 2 | H8: =D8+F8 -> 115 | I8: =H8/G8 -> 57.5
A9: Max Delaney | B9: =('PSC8-24'!B11+'NHTI 9-7'!B12+'cmcc 9-11'!B11+'UMA 9-14'!B11+'KVCC 9-17'!B12+'CMCC 9-21'!B11+'SMCC9-22'!B11+'YCCC9-23'!B11+'smcc9-26'!B11+'Nippo 9-28'!B11+'UMF10-3'!B11+'YSCC Championships'!B12) -> 2 | C9: =('PSC8-24'!C11+'NHTI 9-7'!C12+'cmcc 9-11'!C11+'UMA 9-14'!C11+'KVCC 9-17'!C12+'CMCC 9-21'!C11+'SMCC9-22'!C11+'YCCC9-23'!C11+'smcc9-26'!C11+'Nippo 9-28'!C11+'UMF10-3'!C11+'YSCC Championships'!C12) -> 2 | D9: =('PSC8-24'!D11+'NHTI 9-7'!D12+'cmcc 9-11'!D11+'UMA 9-14'!D11+'KVCC 9-17'!D12+'CMCC 9-21'!D11+'SMCC9-22'!D11+'YCCC9-23'!D11+'smcc9-26'!D11+'Nippo 9-28'!D11+'UMF10-3'!D11+'YSCC Championships'!D12) -> 209 | E9: =D9/C9 -> 104.5 | G9: =C9+1 -> 3 | H9: =D9+F9 -> 209 | I9: =H9/G9 -> 69.666667
A10: Tyler Raeside | B10: =('PSC8-24'!B12+'NHTI 9-7'!B13+'cmcc 9-11'!B12+'UMA 9-14'!B12+'KVCC 9-17'!B13+'CMCC 9-21'!B12+'SMCC9-22'!B12+'YCCC9-23'!B12+'smcc9-26'!B12+'Nippo 9-28'!B12+'UMF10-3'!B12+'YSCC Championships'!B13) -> 2 | C10: =('PSC8-24'!C12+'NHTI 9-7'!C13+'cmcc 9-11'!C12+'UMA 9-14'!C12+'KVCC 9-17'!C13+'CMCC 9-21'!C12+'SMCC9-22'!C12+'YCCC9-23'!C12+'smcc9-26'!C12+'Nippo 9-28'!C12+'UMF10-3'!C12+'YSCC Championships'!C13) -> 2 | D10: =('PSC8-24'!D12+'NHTI 9-7'!D13+'cmcc 9-11'!D12+'UMA 9-14'!D12+'KVCC 9-17'!D13+'CMCC 9-21'!D12+'SMCC9-22'!D12+'YCCC9-23'!D12+'smcc9-26'!D12+'Nippo 9-28'!D12+'UMF10-3'!D12+'YSCC Championships'!D13) -> 240 | E10: =D10/C10 -> 120 | G10: =C10+1 -> 3 | H10: =D10+F10 -> 240 | I10: =H10/G10 -> 80
A12: UMA
A13: Golfer Name | B13: # of matches | C13: Total Rounds (.5 for 9 hole round) | D13: Strokes | E13: Stroke Average (pre yscc tournament) | F13: Strokes on 10/6 | G13: totals rounds | H13: Total Strokes | I13: Final Average
A14: Theo Hustler | B14: =('PSC8-24'!B16+'NHTI 9-7'!B17+'cmcc 9-11'!B16+'UMA 9-14'!B16+'KVCC 9-17'!B17+'CMCC 9-21'!B16+'SMCC9-22'!B16+'YCCC9-23'!B16+'smcc9-26'!B16+'Nippo 9-28'!B16+'UMF10-3'!B16+'YSCC Championships'!B17) -> 4 | C14: =('PSC8-24'!C16+'NHTI 9-7'!C17+'cmcc 9-11'!C16+'UMA 9-14'!C16+'KVCC 9-17'!C17+'CMCC 9-21'!C16+'SMCC9-22'!C16+'YCCC9-23'!C16+'smcc9-26'!C16+'Nippo 9-28'!C16+'UMF10-3'!C16+'YSCC Championships'!C17) -> 4 | D14: =('PSC8-24'!D16+'NHTI 9-7'!D17+'cmcc 9-11'!D16+'UMA 9-14'!D16+'KVCC 9-17'!D17+'CMCC 9-21'!D16+'SMCC9-22'!D16+'YCCC9-23'!D16+'smcc9-26'!D16+'Nippo 9-28'!D16+'UMF10-3'!D16+'YSCC Championships'!D17) -> 304 | E14: =D14/C14 -> 76 | G14: =C14+1 -> 5 | H14: =D14+F14 -> 304 | I14: =H14/G14 -> 60.8
A15: Cole Chaplin | B15: =('PSC8-24'!B17+'NHTI 9-7'!B18+'cmcc 9-11'!B17+'UMA 9-14'!B17+'KVCC 9-17'!B18+'CMCC 9-21'!B17+'SMCC9-22'!B17+'YCCC9-23'!B17+'smcc9-26'!B17+'Nippo 9-28'!B17+'UMF10-3'!B17+'YSCC Championships'!B18) -> 4 | C15: =('PSC8-24'!C17+'NHTI 9-7'!C18+'cmcc 9-11'!C17+'UMA 9-14'!C17+'KVCC 9-17'!C18+'CMCC 9-21'!C17+'SMCC9-22'!C17+'YCCC9-23'!C17+'smcc9-26'!C17+'Nippo 9-28'!C17+'UMF10-3'!C17+'YSCC Championships'!C18) -> 4 | D15: =('PSC8-24'!D17+'NHTI 9-7'!D18+'cmcc 9-11'!D17+'UMA 9-14'!D17+'KVCC 9-17'!D18+'CMCC 9-21'!D17+'SMCC9-22'!D17+'YCCC9-23'!D17+'smcc9-26'!D17+'Nippo 9-28'!D17+'UMF10-3'!D17+'YSCC Championships'!D18) -> 330 | E15: =D15/C15 -> 82.5 | G15: =C15+1 -> 5 | H15: =D15+F15 -> 330 | I15: =H15/G15 -> 66
A16: Ryan Lai | B16: =('PSC8-24'!B18+'NHTI 9-7'!B19+'cmcc 9-11'!B18+'UMA 9-14'!B18+'KVCC 9-17'!B19+'CMCC 9-21'!B18+'SMCC9-22'!B18+'YCCC9-23'!B18+'smcc9-26'!B18+'Nippo 9-28'!B18+'UMF10-3'!B18+'YSCC Championships'!B19) -> 4 | C16: =('PSC8-24'!C18+'NHTI 9-7'!C19+'cmcc 9-11'!C18+'UMA 9-14'!C18+'KVCC 9-17'!C19+'CMCC 9-21'!C18+'SMCC9-22'!C18+'YCCC9-23'!C18+'smcc9-26'!C18+'Nippo 9-28'!C18+'UMF10-3'!C18+'YSCC Championships'!C19) -> 4 | D16: =('PSC8-24'!D18+'NHTI 9-7'!D19+'cmcc 9-11'!D18+'UMA 9-14'!D18+'KVCC 9-17'!D19+'CMCC 9-21'!D18+'SMCC9-22'!D18+'YCCC9-23'!D18+'smcc9-26'!D18+'Nippo 9-28'!D18+'UMF10-3'!D18+'YSCC Championships'!D19) -> 320 | E16: =D16/C16 -> 80 | G16: =C16+1 -> 5 | H16: =D16+F16 -> 320 | I16: =H16/G16 -> 64
A17: Grant Stubbs | B17: =('PSC8-24'!B19+'NHTI 9-7'!B20+'cmcc 9-11'!B19+'UMA 9-14'!B19+'KVCC 9-17'!B20+'CMCC 9-21'!B19+'SMCC9-22'!B19+'YCCC9-23'!B19+'smcc9-26'!B19+'Nippo 9-28'!B19+'UMF10-3'!B19+'YSCC Championships'!B20) -> 4 | C17: =('PSC8-24'!C19+'NHTI 9-7'!C20+'cmcc 9-11'!C19+'UMA 9-14'!C19+'KVCC 9-17'!C20+'CMCC 9-21'!C19+'SMCC9-22'!C19+'YCCC9-23'!C19+'smcc9-26'!C19+'Nippo 9-28'!C19+'UMF10-3'!C19+'YSCC Championships'!C20) -> 4 | D17: =('PSC8-24'!D19+'NHTI 9-7'!D20+'cmcc 9-11'!D19+'UMA 9-14'!D19+'KVCC 9-17'!D20+'CMCC 9-21'!D19+'SMCC9-22'!D19+'YCCC9-23'!D19+'smcc9-26'!D19+'Nippo 9-28'!D19+'UMF10-3'!D19+'YSCC Championships'!D20) -> 341 | E17: =D17/C17 -> 85.25 | G17: =C17+1 -> 5 | H17: =D17+F17 -> 341 | I17: =H17/G17 -> 68.2
A18: Riley Inch | B18: =('PSC8-24'!B20+'NHTI 9-7'!B21+'cmcc 9-11'!B20+'UMA 9-14'!B20+'KVCC 9-17'!B21+'CMCC 9-21'!B20+'SMCC9-22'!B20+'YCCC9-23'!B20+'smcc9-26'!B20+'Nippo 9-28'!B20+'UMF10-3'!B20+'YSCC Championships'!B21) -> 4 | C18: =('PSC8-24'!C20+'NHTI 9-7'!C21+'cmcc 9-11'!C20+'UMA 9-14'!C20+'KVCC 9-17'!C21+'CMCC 9-21'!C20+'SMCC9-22'!C20+'YCCC9-23'!C20+'smcc9-26'!C20+'Nippo 9-28'!C20+'UMF10-3'!C20+'YSCC Championships'!C21) -> 4 | D18: =('PSC8-24'!D20+'NHTI 9-7'!D21+'cmcc 9-11'!D20+'UMA 9-14'!D20+'KVCC 9-17'!D21+'CMCC 9-21'!D20+'SMCC9-22'!D20+'YCCC9-23'!D20+'smcc9-26'!D20+'Nippo 9-28'!D20+'UMF10-3'!D20+'YSCC Championships'!D21) -> 412 | E18: =D18/C18 -> 103 | G18: =C18+1 -> 5 | H18: =D18+F18 -> 412 | I18: =H18/G18 -> 82.4
A19: Caleb Russell | B19: =('PSC8-24'!B21+'NHTI 9-7'!B22+'cmcc 9-11'!B21+'UMA 9-14'!B21+'KVCC 9-17'!B22+'CMCC 9-21'!B21+'SMCC9-22'!B21+'YCCC9-23'!B21+'smcc9-26'!B21+'Nippo 9-28'!B21+'UMF10-3'!B21+'YSCC Championships'!B22) -> 2 | C19: =('PSC8-24'!C21+'NHTI 9-7'!C22+'cmcc 9-11'!C21+'UMA 9-14'!C21+'KVCC 9-17'!C22+'CMCC 9-21'!C21+'SMCC9-22'!C21+'YCCC9-23'!C21+'smcc9-26'!C21+'Nippo 9-28'!C21+'UMF10-3'!C21+'YSCC Championships'!C22) -> 2 | D19: =('PSC8-24'!D21+'NHTI 9-7'!D22+'cmcc 9-11'!D21+'UMA 9-14'!D21+'KVCC 9-17'!D22+'CMCC 9-21'!D21+'SMCC9-22'!D21+'YCCC9-23'!D21+'smcc9-26'!D21+'Nippo 9-28'!D21+'UMF10-3'!D21+'YSCC Championships'!D22) -> 245 | E19: =D19/C19 -> 122.5 | G19: =C19+1 -> 3 | H19: =D19+F19 -> 245 | I19: =H19/G19 -> 81.666667
A21: SMCC
A22: Golfer Name | B22: # of matches | C22: Total Rounds (.5 for 9 hole round) | D22: Strokes | E22: Stroke Average (pre yscc tournament) | F22: Strokes on 10/6 | G22: totals rounds | H22: Total Strokes | I22: Final Average
A23: Asa Buteau | B23: =('PSC8-24'!B25+'NHTI 9-7'!B26+'cmcc 9-11'!B25+'UMA 9-14'!B25+'KVCC 9-17'!B26+'CMCC 9-21'!B25+'SMCC9-22'!B25+'YCCC9-23'!B25+'smcc9-26'!B25+'Nippo 9-28'!B25+'UMF10-3'!B25+'YSCC Championships'!B26) -> 3 | C23: =('PSC8-24'!C25+'NHTI 9-7'!C26+'cmcc 9-11'!C25+'UMA 9-14'!C25+'KVCC 9-17'!C26+'CMCC 9-21'!C25+'SMCC9-22'!C25+'YCCC9-23'!C25+'smcc9-26'!C25+'Nippo 9-28'!C25+'UMF10-3'!C25+'YSCC Championships'!C26) -> 3 | D23: =('PSC8-24'!D25+'NHTI 9-7'!D26+'cmcc 9-11'!D25+'UMA 9-14'!D25+'KVCC 9-17'!D26+'CMCC 9-21'!D25+'SMCC9-22'!D25+'YCCC9-23'!D25+'smcc9-26'!D25+'Nippo 9-28'!D25+'UMF10-3'!D25+'YSCC Championships'!D26) -> 250 | E23: =D23/C23 -> 83.333333 | G23: =C23+1 -> 4 | H23: =D23+F23 -> 250 | I23: =H23/G23 -> 62.5
A24: Brandon Chilton | B24: =('PSC8-24'!B26+'NHTI 9-7'!B27+'cmcc 9-11'!B26+'UMA 9-14'!B26+'KVCC 9-17'!B27+'CMCC 9-21'!B26+'SMCC9-22'!B26+'YCCC9-23'!B26+'smcc9-26'!B26+'Nippo 9-28'!B26+'UMF10-3'!B26+'YSCC Championships'!B27) -> 2 | C24: =('PSC8-24'!C26+'NHTI 9-7'!C27+'cmcc 9-11'!C26+'UMA 9-14'!C26+'KVCC 9-17'!C27+'CMCC 9-21'!C26+'SMCC9-22'!C26+'YCCC9-23'!C26+'smcc9-26'!C26+'Nippo 9-28'!C26+'UMF10-3'!C26+'YSCC Championships'!C27) -> 2 | D24: =('PSC8-24'!D26+'NHTI 9-7'!D27+'cmcc 9-11'!D26+'UMA 9-14'!D26+'KVCC 9-17'!D27+'CMCC 9-21'!D26+'SMCC9-22'!D26+'YCCC9-23'!D26+'smcc9-26'!D26+'Nippo 9-28'!D26+'UMF10-3'!D26+'YSCC Championships'!D27) -> 179 | E24: =D24/C24 -> 89.5 | G24: =C24+1 -> 3 | H24: =D24+F24 -> 179 | I24: =H24/G24 -> 59.666667
A25: Quinn Dillon | B25: =('PSC8-24'!B27+'NHTI 9-7'!B28+'cmcc 9-11'!B27+'UMA 9-14'!B27+'KVCC 9-17'!B28+'CMCC 9-21'!B27+'SMCC9-22'!B27+'YCCC9-23'!B27+'smcc9-26'!B27+'Nippo 9-28'!B27+'UMF10-3'!B27+'YSCC Championships'!B28) -> 3 | C25: =('PSC8-24'!C27+'NHTI 9-7'!C28+'cmcc 9-11'!C27+'UMA 9-14'!C27+'KVCC 9-17'!C28+'CMCC 9-21'!C27+'SMCC9-22'!C27+'YCCC9-23'!C27+'smcc9-26'!C27+'Nippo 9-28'!C27+'UMF10-3'!C27+'YSCC Championships'!C28) -> 3 | D25: =('PSC8-24'!D27+'NHTI 9-7'!D28+'cmcc 9-11'!D27+'UMA 9-14'!D27+'KVCC 9-17'!D28+'CMCC 9-21'!D27+'SMCC9-22'!D27+'YCCC9-23'!D27+'smcc9-26'!D27+'Nippo 9-28'!D27+'UMF10-3'!D27+'YSCC Championships'!D28) -> 228 | E25: =D25/C25 -> 76 | G25: =C25+1 -> 4 | H25: =D25+F25 -> 228 | I25: =H25/G25 -> 57
A26: Garrett Hedges | B26: =('PSC8-24'!B28+'NHTI 9-7'!B29+'cmcc 9-11'!B28+'UMA 9-14'!B28+'KVCC 9-17'!B29+'CMCC 9-21'!B28+'SMCC9-22'!B28+'YCCC9-23'!B28+'smcc9-26'!B28+'Nippo 9-28'!B28+'UMF10-3'!B28+'YSCC Championships'!B29) -> 1 | C26: =('PSC8-24'!C28+'NHTI 9-7'!C29+'cmcc 9-11'!C28+'UMA 9-14'!C28+'KVCC 9-17'!C29+'CMCC 9-21'!C28+'SMCC9-22'!C28+'YCCC9-23'!C28+'smcc9-26'!C28+'Nippo 9-28'!C28+'UMF10-3'!C28+'YSCC Championships'!C29) -> 1 | D26: =('PSC8-24'!D28+'NHTI 9-7'!D29+'cmcc 9-11'!D28+'UMA 9-14'!D28+'KVCC 9-17'!D29+'CMCC 9-21'!D28+'SMCC9-22'!D28+'YCCC9-23'!D28+'smcc9-26'!D28+'Nippo 9-28'!D28+'UMF10-3'!D28+'YSCC Championships'!D29) -> 108 | E26: =D26/C26 -> 108 | G26: =C26+1 -> 2 | H26: =D26+F26 -> 108 | I26: =H26/G26 -> 54
A27: Lucas Inman | B27: =('PSC8-24'!B29+'NHTI 9-7'!B30+'cmcc 9-11'!B29+'UMA 9-14'!B29+'KVCC 9-17'!B30+'CMCC 9-21'!B29+'SMCC9-22'!B29+'YCCC9-23'!B29+'smcc9-26'!B29+'Nippo 9-28'!B29+'UMF10-3'!B29+'YSCC Championships'!B30) -> 4 | C27: =('PSC8-24'!C29+'NHTI 9-7'!C30+'cmcc 9-11'!C29+'UMA 9-14'!C29+'KVCC 9-17'!C30+'CMCC 9-21'!C29+'SMCC9-22'!C29+'YCCC9-23'!C29+'smcc9-26'!C29+'Nippo 9-28'!C29+'UMF10-3'!C29+'YSCC Championships'!C30) -> 4 | D27: =('PSC8-24'!D29+'NHTI 9-7'!D30+'cmcc 9-11'!D29+'UMA 9-14'!D29+'KVCC 9-17'!D30+'CMCC 9-21'!D29+'SMCC9-22'!D29+'YCCC9-23'!D29+'smcc9-26'!D29+'Nippo 9-28'!D29+'UMF10-3'!D29+'YSCC Championships'!D30) -> 332 | E27: =D27/C27 -> 83 | G27: =C27+1 -> 5 | H27: =D27+F27 -> 332 | I27: =H27/G27 -> 66.4
A28: Christopher Keene | B28: =('PSC8-24'!B30+'NHTI 9-7'!B31+'cmcc 9-11'!B30+'UMA 9-14'!B30+'KVCC 9-17'!B31+'CMCC 9-21'!B30+'SMCC9-22'!B30+'YCCC9-23'!B30+'smcc9-26'!B30+'Nippo 9-28'!B30+'UMF10-3'!B30+'YSCC Championships'!B31) -> 1 | C28: =('PSC8-24'!C30+'NHTI 9-7'!C31+'cmcc 9-11'!C30+'UMA 9-14'!C30+'KVCC 9-17'!C31+'CMCC 9-21'!C30+'SMCC9-22'!C30+'YCCC9-23'!C30+'smcc9-26'!C30+'Nippo 9-28'!C30+'UMF10-3'!C30+'YSCC Championships'!C31) -> 1 | D28: =('PSC8-24'!D30+'NHTI 9-7'!D31+'cmcc 9-11'!D30+'UMA 9-14'!D30+'KVCC 9-17'!D31+'CMCC 9-21'!D30+'SMCC9-22'!D30+'YCCC9-23'!D30+'smcc9-26'!D30+'Nippo 9-28'!D30+'UMF10-3'!D30+'YSCC Championships'!D31) -> 89 | E28: =D28/C28 -> 89 | G28: =C28+1 -> 2 | H28: =D28+F28 -> 89 | I28: =H28/G28 -> 44.5
A29: Owen Lee | B29: =('PSC8-24'!B31+'NHTI 9-7'!B32+'cmcc 9-11'!B31+'UMA 9-14'!B31+'KVCC 9-17'!B32+'CMCC 9-21'!B31+'SMCC9-22'!B31+'YCCC9-23'!B31+'smcc9-26'!B31+'Nippo 9-28'!B31+'UMF10-3'!B31+'YSCC Championships'!B32) -> 4 | C29: =('PSC8-24'!C31+'NHTI 9-7'!C32+'cmcc 9-11'!C31+'UMA 9-14'!C31+'KVCC 9-17'!C32+'CMCC 9-21'!C31+'SMCC9-22'!C31+'YCCC9-23'!C31+'smcc9-26'!C31+'Nippo 9-28'!C31+'UMF10-3'!C31+'YSCC Championships'!C32) -> 4 | D29: =('PSC8-24'!D31+'NHTI 9-7'!D32+'cmcc 9-11'!D31+'UMA 9-14'!D31+'KVCC 9-17'!D32+'CMCC 9-21'!D31+'SMCC9-22'!D31+'YCCC9-23'!D31+'smcc9-26'!D31+'Nippo 9-28'!D31+'UMF10-3'!D31+'YSCC Championships'!D32) -> 316 | E29: =D29/C29 -> 79 | G29: =C29+1 -> 5 | H29: =D29+F29 -> 316 | I29: =H29/G29 -> 63.2
A30: Matthew Quigley | B30: =('PSC8-24'!B32+'NHTI 9-7'!B33+'cmcc 9-11'!B32+'UMA 9-14'!B32+'KVCC 9-17'!B33+'CMCC 9-21'!B32+'SMCC9-22'!B32+'YCCC9-23'!B32+'smcc9-26'!B32+'Nippo 9-28'!B32+'UMF10-3'!B32+'YSCC Championships'!B33) -> 4 | C30: =('PSC8-24'!C32+'NHTI 9-7'!C33+'cmcc 9-11'!C32+'UMA 9-14'!C32+'KVCC 9-17'!C33+'CMCC 9-21'!C32+'SMCC9-22'!C32+'YCCC9-23'!C32+'smcc9-26'!C32+'Nippo 9-28'!C32+'UMF10-3'!C32+'YSCC Championships'!C33) -> 4 | D30: =('PSC8-24'!D32+'NHTI 9-7'!D33+'cmcc 9-11'!D32+'UMA 9-14'!D32+'KVCC 9-17'!D33+'CMCC 9-21'!D32+'SMCC9-22'!D32+'YCCC9-23'!D32+'smcc9-26'!D32+'Nippo 9-28'!D32+'UMF10-3'!D32+'YSCC Championships'!D33) -> 327 | E30: =D30/C30 -> 81.75 | G30: =C30+1 -> 5 | H30: =D30+F30 -> 327 | I30: =H30/G30 -> 65.4
A31: Quincy Seavey | B31: =('PSC8-24'!B33+'NHTI 9-7'!B34+'cmcc 9-11'!B33+'UMA 9-14'!B33+'KVCC 9-17'!B34+'CMCC 9-21'!B33+'SMCC9-22'!B33+'YCCC9-23'!B33+'smcc9-26'!B33+'Nippo 9-28'!B33+'UMF10-3'!B33+'YSCC Championships'!B34) -> 0 | C31: =('PSC8-24'!C33+'NHTI 9-7'!C34+'cmcc 9-11'!C33+'UMA 9-14'!C33+'KVCC 9-17'!C34+'CMCC 9-21'!C33+'SMCC9-22'!C33+'YCCC9-23'!C33+'smcc9-26'!C33+'Nippo 9-28'!C33+'UMF10-3'!C33+'YSCC Championships'!C34) -> 0 | D31: =('PSC8-24'!D33+'NHTI 9-7'!D34+'cmcc 9-11'!D33+'UMA 9-14'!D33+'KVCC 9-17'!D34+'CMCC 9-21'!D33+'SMCC9-22'!D33+'YCCC9-23'!D33+'smcc9-26'!D33+'Nippo 9-28'!D33+'UMF10-3'!D33+'YSCC Championships'!D34) -> 0 | E31: =D31/C31 -> #DIV/0! | G31: =C31+1 -> 1 | H31: =D31+F31 -> 0 | I31: =H31/G31 -> 0
A32: Alexander Watts | B32: =('PSC8-24'!B34+'NHTI 9-7'!B35+'cmcc 9-11'!B34+'UMA 9-14'!B34+'KVCC 9-17'!B35+'CMCC 9-21'!B34+'SMCC9-22'!B34+'YCCC9-23'!B34+'smcc9-26'!B34+'Nippo 9-28'!B34+'UMF10-3'!B34+'YSCC Championships'!B35) -> 2 | C32: =('PSC8-24'!C34+'NHTI 9-7'!C35+'cmcc 9-11'!C34+'UMA 9-14'!C34+'KVCC 9-17'!C35+'CMCC 9-21'!C34+'SMCC9-22'!C34+'YCCC9-23'!C34+'smcc9-26'!C34+'Nippo 9-28'!C34+'UMF10-3'!C34+'YSCC Championships'!C35) -> 2 | D32: =('PSC8-24'!D34+'NHTI 9-7'!D35+'cmcc 9-11'!D34+'UMA 9-14'!D34+'KVCC 9-17'!D35+'CMCC 9-21'!D34+'SMCC9-22'!D34+'YCCC9-23'!D34+'smcc9-26'!D34+'Nippo 9-28'!D34+'UMF10-3'!D34+'YSCC Championships'!D35) -> 171 | E32: =D32/C32 -> 85.5 | G32: =C32+1 -> 3 | H32: =D32+F32 -> 171 | I32: =H32/G32 -> 57
A34: PSC
A35: Golfer Name | B35: # of matches | C35: Total Rounds (.5 for 9 hole round) | D35: Strokes | E35: Stroke Average (pre yscc tournament) | F35: Strokes on 10/6 | G35: totals rounds | H35: Total Strokes | I35: Final Average
A36: Nick Porreca | B36: =('PSC8-24'!B38+'NHTI 9-7'!B39+'cmcc 9-11'!B38+'UMA 9-14'!B38+'KVCC 9-17'!B39+'CMCC 9-21'!B38+'SMCC9-22'!B38+'YCCC9-23'!B38+'smcc9-26'!B38+'Nippo 9-28'!B38+'UMF10-3'!B38+'YSCC Championships'!B39) -> 4 | C36: =('PSC8-24'!C38+'NHTI 9-7'!C39+'cmcc 9-11'!C38+'UMA 9-14'!C38+'KVCC 9-17'!C39+'CMCC 9-21'!C38+'SMCC9-22'!C38+'YCCC9-23'!C38+'smcc9-26'!C38+'Nippo 9-28'!C38+'UMF10-3'!C38+'YSCC Championships'!C39) -> 4 | D36: =('PSC8-24'!D38+'NHTI 9-7'!D39+'cmcc 9-11'!D38+'UMA 9-14'!D38+'KVCC 9-17'!D39+'CMCC 9-21'!D38+'SMCC9-22'!D38+'YCCC9-23'!D38+'smcc9-26'!D38+'Nippo 9-28'!D38+'UMF10-3'!D38+'YSCC Championships'!D39) -> 369 | E36: =D36/C36 -> 92.25 | G36: =C36+1 -> 5 | H36: =D36+F36 -> 369 | I36: =H36/G36 -> 73.8
A37: Owen Kime | B37: =('PSC8-24'!B39+'NHTI 9-7'!B40+'cmcc 9-11'!B39+'UMA 9-14'!B39+'KVCC 9-17'!B40+'CMCC 9-21'!B39+'SMCC9-22'!B39+'YCCC9-23'!B39+'smcc9-26'!B39+'Nippo 9-28'!B39+'UMF10-3'!B39+'YSCC Championships'!B40) -> 4 | C37: =('PSC8-24'!C39+'NHTI 9-7'!C40+'cmcc 9-11'!C39+'UMA 9-14'!C39+'KVCC 9-17'!C40+'CMCC 9-21'!C39+'SMCC9-22'!C39+'YCCC9-23'!C39+'smcc9-26'!C39+'Nippo 9-28'!C39+'UMF10-3'!C39+'YSCC Championships'!C40) -> 4 | D37: =('PSC8-24'!D39+'NHTI 9-7'!D40+'cmcc 9-11'!D39+'UMA 9-14'!D39+'KVCC 9-17'!D40+'CMCC 9-21'!D39+'SMCC9-22'!D39+'YCCC9-23'!D39+'smcc9-26'!D39+'Nippo 9-28'!D39+'UMF10-3'!D39+'YSCC Championships'!D40) -> 397 | E37: =D37/C37 -> 99.25 | G37: =C37+1 -> 5 | H37: =D37+F37 -> 397 | I37: =H37/G37 -> 79.4
A38: Sam Reynolds | B38: =('PSC8-24'!B40+'NHTI 9-7'!B41+'cmcc 9-11'!B40+'UMA 9-14'!B40+'KVCC 9-17'!B41+'CMCC 9-21'!B40+'SMCC9-22'!B40+'YCCC9-23'!B40+'smcc9-26'!B40+'Nippo 9-28'!B40+'UMF10-3'!B40+'YSCC Championships'!B41) -> 4 | C38: =('PSC8-24'!C40+'NHTI 9-7'!C41+'cmcc 9-11'!C40+'UMA 9-14'!C40+'KVCC 9-17'!C41+'CMCC 9-21'!C40+'SMCC9-22'!C40+'YCCC9-23'!C40+'smcc9-26'!C40+'Nippo 9-28'!C40+'UMF10-3'!C40+'YSCC Championships'!C41) -> 4 | D38: =('PSC8-24'!D40+'NHTI 9-7'!D41+'cmcc 9-11'!D40+'UMA 9-14'!D40+'KVCC 9-17'!D41+'CMCC 9-21'!D40+'SMCC9-22'!D40+'YCCC9-23'!D40+'smcc9-26'!D40+'Nippo 9-28'!D40+'UMF10-3'!D40+'YSCC Championships'!D41) -> 387 | E38: =D38/C38 -> 96.75 | G38: =C38+1 -> 5 | H38: =D38+F38 -> 387 | I38: =H38/G38 -> 77.4
A39: Zach Hale | B39: =('PSC8-24'!B41+'NHTI 9-7'!B42+'cmcc 9-11'!B41+'UMA 9-14'!B41+'KVCC 9-17'!B42+'CMCC 9-21'!B41+'SMCC9-22'!B41+'YCCC9-23'!B41+'smcc9-26'!B41+'Nippo 9-28'!B41+'UMF10-3'!B41+'YSCC Championships'!B42) -> 4 | C39: =('PSC8-24'!C41+'NHTI 9-7'!C42+'cmcc 9-11'!C41+'UMA 9-14'!C41+'KVCC 9-17'!C42+'CMCC 9-21'!C41+'SMCC9-22'!C41+'YCCC9-23'!C41+'smcc9-26'!C41+'Nippo 9-28'!C41+'UMF10-3'!C41+'YSCC Championships'!C42) -> 4 | D39: =('PSC8-24'!D41+'NHTI 9-7'!D42+'cmcc 9-11'!D41+'UMA 9-14'!D41+'KVCC 9-17'!D42+'CMCC 9-21'!D41+'SMCC9-22'!D41+'YCCC9-23'!D41+'smcc9-26'!D41+'Nippo 9-28'!D41+'UMF10-3'!D41+'YSCC Championships'!D42) -> 406 | E39: =D39/C39 -> 101.5 | G39: =C39+1 -> 5 | H39: =D39+F39 -> 406 | I39: =H39/G39 -> 81.2
A40: Gabe Clark | B40: =('PSC8-24'!B42+'NHTI 9-7'!B43+'cmcc 9-11'!B42+'UMA 9-14'!B42+'KVCC 9-17'!B43+'CMCC 9-21'!B42+'SMCC9-22'!B42+'YCCC9-23'!B42+'smcc9-26'!B42+'Nippo 9-28'!B42+'UMF10-3'!B42+'YSCC Championships'!B43) -> 4 | C40: =('PSC8-24'!C42+'NHTI 9-7'!C43+'cmcc 9-11'!C42+'UMA 9-14'!C42+'KVCC 9-17'!C43+'CMCC 9-21'!C42+'SMCC9-22'!C42+'YCCC9-23'!C42+'smcc9-26'!C42+'Nippo 9-28'!C42+'UMF10-3'!C42+'YSCC Championships'!C43) -> 4 | D40: =('PSC8-24'!D42+'NHTI 9-7'!D43+'cmcc 9-11'!D42+'UMA 9-14'!D42+'KVCC 9-17'!D43+'CMCC 9-21'!D42+'SMCC9-22'!D42+'YCCC9-23'!D42+'smcc9-26'!D42+'Nippo 9-28'!D42+'UMF10-3'!D42+'YSCC Championships'!D43) -> 407 | E40: =D40/C40 -> 101.75 | G40: =C40+1 -> 5 | H40: =D40+F40 -> 407 | I40: =H40/G40 -> 81.4
A41: Dominic Curley | B41: =('PSC8-24'!B43+'NHTI 9-7'!B44+'cmcc 9-11'!B43+'UMA 9-14'!B43+'KVCC 9-17'!B44+'CMCC 9-21'!B43+'SMCC9-22'!B43+'YCCC9-23'!B43+'smcc9-26'!B43+'Nippo 9-28'!B43+'UMF10-3'!B43+'YSCC Championships'!B44) -> 2 | C41: =('PSC8-24'!C43+'NHTI 9-7'!C44+'cmcc 9-11'!C43+'UMA 9-14'!C43+'KVCC 9-17'!C44+'CMCC 9-21'!C43+'SMCC9-22'!C43+'YCCC9-23'!C43+'smcc9-26'!C43+'Nippo 9-28'!C43+'UMF10-3'!C43+'YSCC Championships'!C44) -> 2 | D41: =('PSC8-24'!D43+'NHTI 9-7'!D44+'cmcc 9-11'!D43+'UMA 9-14'!D43+'KVCC 9-17'!D44+'CMCC 9-21'!D43+'SMCC9-22'!D43+'YCCC9-23'!D43+'smcc9-26'!D43+'Nippo 9-28'!D43+'UMF10-3'!D43+'YSCC Championships'!D44) -> 217 | E41: =D41/C41 -> 108.5 | G41: =C41+1 -> 3 | H41: =D41+F41 -> 217 | I41: =H41/G41 -> 72.333333
A42: Aiden Oberle | B42: =('PSC8-24'!B44+'NHTI 9-7'!B45+'cmcc 9-11'!B44+'UMA 9-14'!B44+'KVCC 9-17'!B45+'CMCC 9-21'!B44+'SMCC9-22'!B44+'YCCC9-23'!B44+'smcc9-26'!B44+'Nippo 9-28'!B44+'UMF10-3'!B44+'YSCC Championships'!B45) -> 3 | C42: =('PSC8-24'!C44+'NHTI 9-7'!C45+'cmcc 9-11'!C44+'UMA 9-14'!C44+'KVCC 9-17'!C45+'CMCC 9-21'!C44+'SMCC9-22'!C44+'YCCC9-23'!C44+'smcc9-26'!C44+'Nippo 9-28'!C44+'UMF10-3'!C44+'YSCC Championships'!C45) -> 3 | D42: =('PSC8-24'!D44+'NHTI 9-7'!D45+'cmcc 9-11'!D44+'UMA 9-14'!D44+'KVCC 9-17'!D45+'CMCC 9-21'!D44+'SMCC9-22'!D44+'YCCC9-23'!D44+'smcc9-26'!D44+'Nippo 9-28'!D44+'UMF10-3'!D44+'YSCC Championships'!D45) -> 337 | E42: =D42/C42 -> 112.33333 | G42: =C42+1 -> 4 | H42: =D42+F42 -> 337 | I42: =H42/G42 -> 84.25
A43: Josh Alexarian | B43: =('PSC8-24'!B45+'NHTI 9-7'!B46+'cmcc 9-11'!B45+'UMA 9-14'!B45+'KVCC 9-17'!B46+'CMCC 9-21'!B45+'SMCC9-22'!B45+'YCCC9-23'!B45+'smcc9-26'!B45+'Nippo 9-28'!B45+'UMF10-3'!B45+'YSCC Championships'!B46) -> 1 | C43: =('PSC8-24'!C45+'NHTI 9-7'!C46+'cmcc 9-11'!C45+'UMA 9-14'!C45+'KVCC 9-17'!C46+'CMCC 9-21'!C45+'SMCC9-22'!C45+'YCCC9-23'!C45+'smcc9-26'!C45+'Nippo 9-28'!C45+'UMF10-3'!C45+'YSCC Championships'!C46) -> 1 | D43: =('PSC8-24'!D45+'NHTI 9-7'!D46+'cmcc 9-11'!D45+'UMA 9-14'!D45+'KVCC 9-17'!D46+'CMCC 9-21'!D45+'SMCC9-22'!D45+'YCCC9-23'!D45+'smcc9-26'!D45+'Nippo 9-28'!D45+'UMF10-3'!D45+'YSCC Championships'!D46) -> 140 | E43: =D43/C43 -> 140 | G43: =C43+1 -> 2 | H43: =D43+F43 -> 140 | I43: =H43/G43 -> 70
A44: Tyson Smith | B44: =('PSC8-24'!B46+'NHTI 9-7'!B47+'cmcc 9-11'!B46+'UMA 9-14'!B46+'KVCC 9-17'!B47+'CMCC 9-21'!B46+'SMCC9-22'!B46+'YCCC9-23'!B46+'smcc9-26'!B46+'Nippo 9-28'!B46+'UMF10-3'!B46+'YSCC Championships'!B47) -> 1 | C44: =('PSC8-24'!C46+'NHTI 9-7'!C47+'cmcc 9-11'!C46+'UMA 9-14'!C46+'KVCC 9-17'!C47+'CMCC 9-21'!C46+'SMCC9-22'!C46+'YCCC9-23'!C46+'smcc9-26'!C46+'Nippo 9-28'!C46+'UMF10-3'!C46+'YSCC Championships'!C47) -> 1 | D44: =('PSC8-24'!D46+'NHTI 9-7'!D47+'cmcc 9-11'!D46+'UMA 9-14'!D46+'KVCC 9-17'!D47+'CMCC 9-21'!D46+'SMCC9-22'!D46+'YCCC9-23'!D46+'smcc9-26'!D46+'Nippo 9-28'!D46+'UMF10-3'!D46+'YSCC Championships'!D47) -> 104 | E44: =D44/C44 -> 104 | G44: =C44+1 -> 2 | H44: =D44+F44 -> 104 | I44: =H44/G44 -> 52
A45: Zach Zinzow | B45: =('PSC8-24'!B47+'NHTI 9-7'!B48+'cmcc 9-11'!B47+'UMA 9-14'!B47+'KVCC 9-17'!B48+'CMCC 9-21'!B47+'SMCC9-22'!B47+'YCCC9-23'!B47+'smcc9-26'!B47+'Nippo 9-28'!B47+'UMF10-3'!B47+'YSCC Championships'!B48) -> 1 | C45: =('PSC8-24'!C47+'NHTI 9-7'!C48+'cmcc 9-11'!C47+'UMA 9-14'!C47+'KVCC 9-17'!C48+'CMCC 9-21'!C47+'SMCC9-22'!C47+'YCCC9-23'!C47+'smcc9-26'!C47+'Nippo 9-28'!C47+'UMF10-3'!C47+'YSCC Championships'!C48) -> 1 | D45: =('PSC8-24'!D47+'NHTI 9-7'!D48+'cmcc 9-11'!D47+'UMA 9-14'!D47+'KVCC 9-17'!D48+'CMCC 9-21'!D47+'SMCC9-22'!D47+'YCCC9-23'!D47+'smcc9-26'!D47+'Nippo 9-28'!D47+'UMF10-3'!D47+'YSCC Championships'!D48) -> 105 | E45: =D45/C45 -> 105 | G45: =C45+1 -> 2 | H45: =D45+F45 -> 105 | I45: =H45/G45 -> 52.5
A46: Ryen Janus | B46: =('PSC8-24'!B48+'NHTI 9-7'!B49+'cmcc 9-11'!B48+'UMA 9-14'!B48+'KVCC 9-17'!B49+'CMCC 9-21'!B48+'SMCC9-22'!B48+'YCCC9-23'!B48+'smcc9-26'!B48+'Nippo 9-28'!B48+'UMF10-3'!B48+'YSCC Championships'!B49) -> 1 | C46: =('PSC8-24'!C48+'NHTI 9-7'!C49+'cmcc 9-11'!C48+'UMA 9-14'!C48+'KVCC 9-17'!C49+'CMCC 9-21'!C48+'SMCC9-22'!C48+'YCCC9-23'!C48+'smcc9-26'!C48+'Nippo 9-28'!C48+'UMF10-3'!C48+'YSCC Championships'!C49) -> 1 | D46: =('PSC8-24'!D48+'NHTI 9-7'!D49+'cmcc 9-11'!D48+'UMA 9-14'!D48+'KVCC 9-17'!D49+'CMCC 9-21'!D48+'SMCC9-22'!D48+'YCCC9-23'!D48+'smcc9-26'!D48+'Nippo 9-28'!D48+'UMF10-3'!D48+'YSCC Championships'!D49) -> 112 | E46: =D46/C46 -> 112 | G46: =C46+1 -> 2 | H46: =D46+F46 -> 112 | I46: =H46/G46 -> 56
A47: Nicholas Everett | B47: =('PSC8-24'!B49+'NHTI 9-7'!B50+'cmcc 9-11'!B49+'UMA 9-14'!B49+'KVCC 9-17'!B50+'CMCC 9-21'!B49+'SMCC9-22'!B49+'YCCC9-23'!B49+'smcc9-26'!B49+'Nippo 9-28'!B49+'UMF10-3'!B49+'YSCC Championships'!B50) -> 2 | C47: =('PSC8-24'!C49+'NHTI 9-7'!C50+'cmcc 9-11'!C49+'UMA 9-14'!C49+'KVCC 9-17'!C50+'CMCC 9-21'!C49+'SMCC9-22'!C49+'YCCC9-23'!C49+'smcc9-26'!C49+'Nippo 9-28'!C49+'UMF10-3'!C49+'YSCC Championships'!C50) -> 2 | D47: =('PSC8-24'!D49+'NHTI 9-7'!D50+'cmcc 9-11'!D49+'UMA 9-14'!D49+'KVCC 9-17'!D50+'CMCC 9-21'!D49+'SMCC9-22'!D49+'YCCC9-23'!D49+'smcc9-26'!D49+'Nippo 9-28'!D49+'UMF10-3'!D49+'YSCC Championships'!D50) -> 221 | E47: =D47/C47 -> 110.5 | G47: =C47+1 -> 3
A49: YCCC
A50: Golfer Name | B50: # of matches | C50: Total Rounds (.5 for 9 hole round) | D50: Strokes | E50: Stroke Average (pre yscc tournament) | F50: Strokes on 10/6 | G50: totals rounds | H50: Total Strokes | I50: Final Average
A51: Dan Williams | B51: =('PSC8-24'!B53+'NHTI 9-7'!B54+'cmcc 9-11'!B53+'UMA 9-14'!B53+'KVCC 9-17'!B54+'CMCC 9-21'!B53+'SMCC9-22'!B53+'YCCC9-23'!B53+'smcc9-26'!B53+'Nippo 9-28'!B53+'UMF10-3'!B53+'YSCC Championships'!B54) -> 4 | C51: =('PSC8-24'!C53+'NHTI 9-7'!C54+'cmcc 9-11'!C53+'UMA 9-14'!C53+'KVCC 9-17'!C54+'CMCC 9-21'!C53+'SMCC9-22'!C53+'YCCC9-23'!C53+'smcc9-26'!C53+'Nippo 9-28'!C53+'UMF10-3'!C53+'YSCC Championships'!C54) -> 2.5 | D51: =('PSC8-24'!D53+'NHTI 9-7'!D54+'cmcc 9-11'!D53+'UMA 9-14'!D53+'KVCC 9-17'!D54+'CMCC 9-21'!D53+'SMCC9-22'!D53+'YCCC9-23'!D53+'smcc9-26'!D53+'Nippo 9-28'!D53+'UMF10-3'!D53+'YSCC Championships'!D54) -> 234 | E51: =D51/C51 -> 93.6 | G51: =C51+1 -> 3.5 | H51: =D51+F51 -> 234 | I51: =H51/G51 -> 66.857143
A52: Liam Connors | B52: =('PSC8-24'!B54+'NHTI 9-7'!B55+'cmcc 9-11'!B54+'UMA 9-14'!B54+'KVCC 9-17'!B55+'CMCC 9-21'!B54+'SMCC9-22'!B54+'YCCC9-23'!B54+'smcc9-26'!B54+'Nippo 9-28'!B54+'UMF10-3'!B54+'YSCC Championships'!B55) -> 4 | C52: =('PSC8-24'!C54+'NHTI 9-7'!C55+'cmcc 9-11'!C54+'UMA 9-14'!C54+'KVCC 9-17'!C55+'CMCC 9-21'!C54+'SMCC9-22'!C54+'YCCC9-23'!C54+'smcc9-26'!C54+'Nippo 9-28'!C54+'UMF10-3'!C54+'YSCC Championships'!C55) -> 2.5 | D52: =('PSC8-24'!D54+'NHTI 9-7'!D55+'cmcc 9-11'!D54+'UMA 9-14'!D54+'KVCC 9-17'!D55+'CMCC 9-21'!D54+'SMCC9-22'!D54+'YCCC9-23'!D54+'smcc9-26'!D54+'Nippo 9-28'!D54+'UMF10-3'!D54+'YSCC Championships'!D55) -> 243 | E52: =D52/C52 -> 97.2 | G52: =C52+1 -> 3.5 | H52: =D52+F52 -> 243 | I52: =H52/G52 -> 69.428571
A53: Nic Gagnon | B53: =('PSC8-24'!B55+'NHTI 9-7'!B56+'cmcc 9-11'!B55+'UMA 9-14'!B55+'KVCC 9-17'!B56+'CMCC 9-21'!B55+'SMCC9-22'!B55+'YCCC9-23'!B55+'smcc9-26'!B55+'Nippo 9-28'!B55+'UMF10-3'!B55+'YSCC Championships'!B56) -> 4 | C53: =('PSC8-24'!C55+'NHTI 9-7'!C56+'cmcc 9-11'!C55+'UMA 9-14'!C55+'KVCC 9-17'!C56+'CMCC 9-21'!C55+'SMCC9-22'!C55+'YCCC9-23'!C55+'smcc9-26'!C55+'Nippo 9-28'!C55+'UMF10-3'!C55+'YSCC Championships'!C56) -> 2.5 | D53: =('PSC8-24'!D55+'NHTI 9-7'!D56+'cmcc 9-11'!D55+'UMA 9-14'!D55+'KVCC 9-17'!D56+'CMCC 9-21'!D55+'SMCC9-22'!D55+'YCCC9-23'!D55+'smcc9-26'!D55+'Nippo 9-28'!D55+'UMF10-3'!D55+'YSCC Championships'!D56) -> 313 | E53: =D53/C53 -> 125.2 | G53: =C53+1 -> 3.5 | H53: =D53+F53 -> 313 | I53: =H53/G53 -> 89.428571
A54: Emma Janousek | B54: =('PSC8-24'!B56+'NHTI 9-7'!B57+'cmcc 9-11'!B56+'UMA 9-14'!B56+'KVCC 9-17'!B57+'CMCC 9-21'!B56+'SMCC9-22'!B56+'YCCC9-23'!B56+'smcc9-26'!B56+'Nippo 9-28'!B56+'UMF10-3'!B56+'YSCC Championships'!B57) -> 4 | C54: =('PSC8-24'!C56+'NHTI 9-7'!C57+'cmcc 9-11'!C56+'UMA 9-14'!C56+'KVCC 9-17'!C57+'CMCC 9-21'!C56+'SMCC9-22'!C56+'YCCC9-23'!C56+'smcc9-26'!C56+'Nippo 9-28'!C56+'UMF10-3'!C56+'YSCC Championships'!C57) -> 2.5 | D54: =('PSC8-24'!D56+'NHTI 9-7'!D57+'cmcc 9-11'!D56+'UMA 9-14'!D56+'KVCC 9-17'!D57+'CMCC 9-21'!D56+'SMCC9-22'!D56+'YCCC9-23'!D56+'smcc9-26'!D56+'Nippo 9-28'!D56+'UMF10-3'!D56+'YSCC Championships'!D57) -> 188 | E54: =D54/C54 -> 75.2 | G54: =C54+1 -> 3.5 | H54: =D54+F54 -> 188 | I54: =H54/G54 -> 53.714286
A55: Dominic Capello | B55: =('PSC8-24'!B57+'NHTI 9-7'!B58+'cmcc 9-11'!B57+'UMA 9-14'!B57+'KVCC 9-17'!B58+'CMCC 9-21'!B57+'SMCC9-22'!B57+'YCCC9-23'!B57+'smcc9-26'!B57+'Nippo 9-28'!B57+'UMF10-3'!B57+'YSCC Championships'!B58) -> 2 | C55: =('PSC8-24'!C57+'NHTI 9-7'!C58+'cmcc 9-11'!C57+'UMA 9-14'!C57+'KVCC 9-17'!C58+'CMCC 9-21'!C57+'SMCC9-22'!C57+'YCCC9-23'!C57+'smcc9-26'!C57+'Nippo 9-28'!C57+'UMF10-3'!C57+'YSCC Championships'!C58) -> 1.5 | D55: =('PSC8-24'!D57+'NHTI 9-7'!D58+'cmcc 9-11'!D57+'UMA 9-14'!D57+'KVCC 9-17'!D58+'CMCC 9-21'!D57+'SMCC9-22'!D57+'YCCC9-23'!D57+'smcc9-26'!D57+'Nippo 9-28'!D57+'UMF10-3'!D57+'YSCC Championships'!D58) -> 164 | E55: =D55/C55 -> 109.33333 | G55: =C55+1 -> 2.5 | H55: =D55+F55 -> 164 | I55: =H55/G55 -> 65.6
A56: Luke Sullivan | B56: =('PSC8-24'!B58+'NHTI 9-7'!B59+'cmcc 9-11'!B58+'UMA 9-14'!B58+'KVCC 9-17'!B59+'CMCC 9-21'!B58+'SMCC9-22'!B58+'YCCC9-23'!B58+'smcc9-26'!B58+'Nippo 9-28'!B58+'UMF10-3'!B58+'YSCC Championships'!B59) -> 3 | C56: =('PSC8-24'!C58+'NHTI 9-7'!C59+'cmcc 9-11'!C58+'UMA 9-14'!C58+'KVCC 9-17'!C59+'CMCC 9-21'!C58+'SMCC9-22'!C58+'YCCC9-23'!C58+'smcc9-26'!C58+'Nippo 9-28'!C58+'UMF10-3'!C58+'YSCC Championships'!C59) -> 2 | D56: =('PSC8-24'!D58+'NHTI 9-7'!D59+'cmcc 9-11'!D58+'UMA 9-14'!D58+'KVCC 9-17'!D59+'CMCC 9-21'!D58+'SMCC9-22'!D58+'YCCC9-23'!D58+'smcc9-26'!D58+'Nippo 9-28'!D58+'UMF10-3'!D58+'YSCC Championships'!D59) -> 257 | E56: =D56/C56 -> 128.5 | G56: =C56+1 -> 3 | H56: =D56+F56 -> 257 | I56: =H56/G56 -> 85.666667
A57: Amy Stanek | B57: =('PSC8-24'!B59+'NHTI 9-7'!B60+'cmcc 9-11'!B59+'UMA 9-14'!B59+'KVCC 9-17'!B60+'CMCC 9-21'!B59+'SMCC9-22'!B59+'YCCC9-23'!B59+'smcc9-26'!B59+'Nippo 9-28'!B59+'UMF10-3'!B59+'YSCC Championships'!B60) -> 1 | C57: =('PSC8-24'!C59+'NHTI 9-7'!C60+'cmcc 9-11'!C59+'UMA 9-14'!C59+'KVCC 9-17'!C60+'CMCC 9-21'!C59+'SMCC9-22'!C59+'YCCC9-23'!C59+'smcc9-26'!C59+'Nippo 9-28'!C59+'UMF10-3'!C59+'YSCC Championships'!C60) -> 0.5 | D57: =('PSC8-24'!D59+'NHTI 9-7'!D60+'cmcc 9-11'!D59+'UMA 9-14'!D59+'KVCC 9-17'!D60+'CMCC 9-21'!D59+'SMCC9-22'!D59+'YCCC9-23'!D59+'smcc9-26'!D59+'Nippo 9-28'!D59+'UMF10-3'!D59+'YSCC Championships'!D60) -> 52 | E57: =D57/C57 -> 104 | G57: =C57+1 -> 1.5 | H57: =D57+F57 -> 52 | I57: =H57/G57 -> 34.666667
A59: KVCC
A60: Golfer Name | B60: # of matches | C60: Total Rounds (.5 for 9 hole round) | D60: Strokes | E60: Stroke Average (pre yscc tournament) | F60: Strokes on 10/6 | G60: totals rounds | H60: Total Strokes | I60: Final Average
A61: Abbey Kemp | B61: =('PSC8-24'!B63+'NHTI 9-7'!B64+'cmcc 9-11'!B63+'UMA 9-14'!B63+'KVCC 9-17'!B64+'CMCC 9-21'!B63+'SMCC9-22'!B63+'YCCC9-23'!B63+'smcc9-26'!B63+'Nippo 9-28'!B63+'UMF10-3'!B63+'YSCC Championships'!B64) -> 4 | C61: =('PSC8-24'!C63+'NHTI 9-7'!C64+'cmcc 9-11'!C63+'UMA 9-14'!C63+'KVCC 9-17'!C64+'CMCC 9-21'!C63+'SMCC9-22'!C63+'YCCC9-23'!C63+'smcc9-26'!C63+'Nippo 9-28'!C63+'UMF10-3'!C63+'YSCC Championships'!C64) -> 3 | D61: =('PSC8-24'!D63+'NHTI 9-7'!D64+'cmcc 9-11'!D63+'UMA 9-14'!D63+'KVCC 9-17'!D64+'CMCC 9-21'!D63+'SMCC9-22'!D63+'YCCC9-23'!D63+'smcc9-26'!D63+'Nippo 9-28'!D63+'UMF10-3'!D63+'YSCC Championships'!D64) -> 334 | E61: =D61/C61 -> 111.33333 | G61: =C61+1 -> 4 | H61: =D61+F61 -> 334 | I61: =H61/G61 -> 83.5
A62: Andrew Trombley | B62: =('PSC8-24'!B64+'NHTI 9-7'!B65+'cmcc 9-11'!B64+'UMA 9-14'!B64+'KVCC 9-17'!B65+'CMCC 9-21'!B64+'SMCC9-22'!B64+'YCCC9-23'!B64+'smcc9-26'!B64+'Nippo 9-28'!B64+'UMF10-3'!B64+'YSCC Championships'!B65) -> 2 | C62: =('PSC8-24'!C64+'NHTI 9-7'!C65+'cmcc 9-11'!C64+'UMA 9-14'!C64+'KVCC 9-17'!C65+'CMCC 9-21'!C64+'SMCC9-22'!C64+'YCCC9-23'!C64+'smcc9-26'!C64+'Nippo 9-28'!C64+'UMF10-3'!C64+'YSCC Championships'!C65) -> 1.5 | D62: =('PSC8-24'!D64+'NHTI 9-7'!D65+'cmcc 9-11'!D64+'UMA 9-14'!D64+'KVCC 9-17'!D65+'CMCC 9-21'!D64+'SMCC9-22'!D64+'YCCC9-23'!D64+'smcc9-26'!D64+'Nippo 9-28'!D64+'UMF10-3'!D64+'YSCC Championships'!D65) -> 191 | E62: =D62/C62 -> 127.33333 | G62: =C62+1 -> 2.5 | H62: =D62+F62 -> 191 | I62: =H62/G62 -> 76.4
A63: Kenneth Hagen | B63: =('PSC8-24'!B65+'NHTI 9-7'!B66+'cmcc 9-11'!B65+'UMA 9-14'!B65+'KVCC 9-17'!B66+'CMCC 9-21'!B65+'SMCC9-22'!B65+'YCCC9-23'!B65+'smcc9-26'!B65+'Nippo 9-28'!B65+'UMF10-3'!B65+'YSCC Championships'!B66) -> 3 | C63: =('PSC8-24'!C65+'NHTI 9-7'!C66+'cmcc 9-11'!C65+'UMA 9-14'!C65+'KVCC 9-17'!C66+'CMCC 9-21'!C65+'SMCC9-22'!C65+'YCCC9-23'!C65+'smcc9-26'!C65+'Nippo 9-28'!C65+'UMF10-3'!C65+'YSCC Championships'!C66) -> 2.5 | D63: =('PSC8-24'!D65+'NHTI 9-7'!D66+'cmcc 9-11'!D65+'UMA 9-14'!D65+'KVCC 9-17'!D66+'CMCC 9-21'!D65+'SMCC9-22'!D65+'YCCC9-23'!D65+'smcc9-26'!D65+'Nippo 9-28'!D65+'UMF10-3'!D65+'YSCC Championships'!D66) -> 280 | E63: =D63/C63 -> 112 | G63: =C63+1 -> 3.5 | H63: =D63+F63 -> 280 | I63: =H63/G63 -> 80
A64: Colton Burge | B64: =('PSC8-24'!B66+'NHTI 9-7'!B67+'cmcc 9-11'!B66+'UMA 9-14'!B66+'KVCC 9-17'!B67+'CMCC 9-21'!B66+'SMCC9-22'!B66+'YCCC9-23'!B66+'smcc9-26'!B66+'Nippo 9-28'!B66+'UMF10-3'!B66+'YSCC Championships'!B67) -> 4 | C64: =('PSC8-24'!C66+'NHTI 9-7'!C67+'cmcc 9-11'!C66+'UMA 9-14'!C66+'KVCC 9-17'!C67+'CMCC 9-21'!C66+'SMCC9-22'!C66+'YCCC9-23'!C66+'smcc9-26'!C66+'Nippo 9-28'!C66+'UMF10-3'!C66+'YSCC Championships'!C67) -> 3 | D64: =('PSC8-24'!D66+'NHTI 9-7'!D67+'cmcc 9-11'!D66+'UMA 9-14'!D66+'KVCC 9-17'!D67+'CMCC 9-21'!D66+'SMCC9-22'!D66+'YCCC9-23'!D66+'smcc9-26'!D66+'Nippo 9-28'!D66+'UMF10-3'!D66+'YSCC Championships'!D67) -> 324 | E64: =D64/C64 -> 108 | G64: =C64+1 -> 4 | H64: =D64+F64 -> 324 | I64: =H64/G64 -> 81
A67: NHTI
A68: Golfer Name | B68: # of matches | C68: Total Rounds (.5 for 9 hole round) | D68: Strokes | E68: Stroke Average (pre yscc tournament) | F68: Strokes on 10/6 | G68: totals rounds | H68: Total Strokes | I68: Final Average
A69: Cam Brown | B69: =('PSC8-24'!B71+'NHTI 9-7'!B72+'cmcc 9-11'!B71+'UMA 9-14'!B71+'KVCC 9-17'!B72+'CMCC 9-21'!B71+'SMCC9-22'!B71+'YCCC9-23'!B71+'smcc9-26'!B71+'Nippo 9-28'!B71+'UMF10-3'!B71+'YSCC Championships'!B72) -> 2 | C69: =('PSC8-24'!C71+'NHTI 9-7'!C72+'cmcc 9-11'!C71+'UMA 9-14'!C71+'KVCC 9-17'!C72+'CMCC 9-21'!C71+'SMCC9-22'!C71+'YCCC9-23'!C71+'smcc9-26'!C71+'Nippo 9-28'!C71+'UMF10-3'!C71+'YSCC Championships'!C72) -> 2 | D69: =('PSC8-24'!D71+'NHTI 9-7'!D72+'cmcc 9-11'!D71+'UMA 9-14'!D71+'KVCC 9-17'!D72+'CMCC 9-21'!D71+'SMCC9-22'!D71+'YCCC9-23'!D71+'smcc9-26'!D71+'Nippo 9-28'!D71+'UMF10-3'!D71+'YSCC Championships'!D72) -> 181 | E69: =D69/C69 -> 90.5 | G69: =C69+1 -> 3 | H69: =D69+F69 -> 181 | I69: =H69/G69 -> 60.333333
A70: Caleb Szafran | B70: =('PSC8-24'!B72+'NHTI 9-7'!B73+'cmcc 9-11'!B72+'UMA 9-14'!B72+'KVCC 9-17'!B73+'CMCC 9-21'!B72+'SMCC9-22'!B72+'YCCC9-23'!B72+'smcc9-26'!B72+'Nippo 9-28'!B72+'UMF10-3'!B72+'YSCC Championships'!B73) -> 1 | C70: =('PSC8-24'!C72+'NHTI 9-7'!C73+'cmcc 9-11'!C72+'UMA 9-14'!C72+'KVCC 9-17'!C73+'CMCC 9-21'!C72+'SMCC9-22'!C72+'YCCC9-23'!C72+'smcc9-26'!C72+'Nippo 9-28'!C72+'UMF10-3'!C72+'YSCC Championships'!C73) -> 1 | D70: =('PSC8-24'!D72+'NHTI 9-7'!D73+'cmcc 9-11'!D72+'UMA 9-14'!D72+'KVCC 9-17'!D73+'CMCC 9-21'!D72+'SMCC9-22'!D72+'YCCC9-23'!D72+'smcc9-26'!D72+'Nippo 9-28'!D72+'UMF10-3'!D72+'YSCC Championships'!D73) -> 100 | E70: =D70/C70 -> 100 | G70: =C70+1 -> 2 | H70: =D70+F70 -> 100 | I70: =H70/G70 -> 50
A71: Kyle Ovitt | B71: =('PSC8-24'!B73+'NHTI 9-7'!B74+'cmcc 9-11'!B73+'UMA 9-14'!B73+'KVCC 9-17'!B74+'CMCC 9-21'!B73+'SMCC9-22'!B73+'YCCC9-23'!B73+'smcc9-26'!B73+'Nippo 9-28'!B73+'UMF10-3'!B73+'YSCC Championships'!B74) -> 2 | C71: =('PSC8-24'!C73+'NHTI 9-7'!C74+'cmcc 9-11'!C73+'UMA 9-14'!C73+'KVCC 9-17'!C74+'CMCC 9-21'!C73+'SMCC9-22'!C73+'YCCC9-23'!C73+'smcc9-26'!C73+'Nippo 9-28'!C73+'UMF10-3'!C73+'YSCC Championships'!C74) -> 2 | D71: =('PSC8-24'!D73+'NHTI 9-7'!D74+'cmcc 9-11'!D73+'UMA 9-14'!D73+'KVCC 9-17'!D74+'CMCC 9-21'!D73+'SMCC9-22'!D73+'YCCC9-23'!D73+'smcc9-26'!D73+'Nippo 9-28'!D73+'UMF10-3'!D73+'YSCC Championships'!D74) -> 224 | E71: =D71/C71 -> 112 | G71: =C71+1 -> 3 | H71: =D71+F71 -> 224 | I71: =H71/G71 -> 74.666667
A72: Thomas Jackson | B72: =('PSC8-24'!B74+'NHTI 9-7'!B75+'cmcc 9-11'!B74+'UMA 9-14'!B74+'KVCC 9-17'!B75+'CMCC 9-21'!B74+'SMCC9-22'!B74+'YCCC9-23'!B74+'smcc9-26'!B74+'Nippo 9-28'!B74+'UMF10-3'!B74+'YSCC Championships'!B75) -> 2 | C72: =('PSC8-24'!C74+'NHTI 9-7'!C75+'cmcc 9-11'!C74+'UMA 9-14'!C74+'KVCC 9-17'!C75+'CMCC 9-21'!C74+'SMCC9-22'!C74+'YCCC9-23'!C74+'smcc9-26'!C74+'Nippo 9-28'!C74+'UMF10-3'!C74+'YSCC Championships'!C75) -> 2 | D72: =('PSC8-24'!D74+'NHTI 9-7'!D75+'cmcc 9-11'!D74+'UMA 9-14'!D74+'KVCC 9-17'!D75+'CMCC 9-21'!D74+'SMCC9-22'!D74+'YCCC9-23'!D74+'smcc9-26'!D74+'Nippo 9-28'!D74+'UMF10-3'!D74+'YSCC Championships'!D75) -> 224 | E72: =D72/C72 -> 112 | G72: =C72+1 -> 3 | H72: =D72+F72 -> 224 | I72: =H72/G72 -> 74.666667
I73: =H73/G73 -> #DIV/0!
A75: CMCC
A76: Golfer Name | B76: # of matches | C76: Total Rounds (.5 for 9 hole round) | D76: Strokes | E76: Stroke Average (pre yscc tournament) | F76: Strokes on 10/6 | G76: totals rounds | H76: Total Strokes | I76: Final Average
A77: Bryson Mattox | B77: =('PSC8-24'!B79+'NHTI 9-7'!B80+'cmcc 9-11'!B79+'UMA 9-14'!B79+'KVCC 9-17'!B80+'CMCC 9-21'!B79+'SMCC9-22'!B79+'YCCC9-23'!B79+'smcc9-26'!B79+'Nippo 9-28'!B79+'UMF10-3'!B79+'YSCC Championships'!B80) -> 1 | C77: =('PSC8-24'!C79+'NHTI 9-7'!C80+'cmcc 9-11'!C79+'UMA 9-14'!C79+'KVCC 9-17'!C80+'CMCC 9-21'!C79+'SMCC9-22'!C79+'YCCC9-23'!C79+'smcc9-26'!C79+'Nippo 9-28'!C79+'UMF10-3'!C79+'YSCC Championships'!C80) -> 1 | D77: =('PSC8-24'!D79+'NHTI 9-7'!D80+'cmcc 9-11'!D79+'UMA 9-14'!D79+'KVCC 9-17'!D80+'CMCC 9-21'!D79+'SMCC9-22'!D79+'YCCC9-23'!D79+'smcc9-26'!D79+'Nippo 9-28'!D79+'UMF10-3'!D79+'YSCC Championships'!D80) -> 88 | E77: =D77/C77 -> 88 | G77: =C77+1 -> 2 | H77: =D77+F77 -> 88 | I77: =H77/G77 -> 44
A78: Brady Kilby | B78: =('PSC8-24'!B80+'NHTI 9-7'!B81+'cmcc 9-11'!B80+'UMA 9-14'!B80+'KVCC 9-17'!B81+'CMCC 9-21'!B80+'SMCC9-22'!B80+'YCCC9-23'!B80+'smcc9-26'!B80+'Nippo 9-28'!B80+'UMF10-3'!B80+'YSCC Championships'!B81) -> 1 | C78: =('PSC8-24'!C80+'NHTI 9-7'!C81+'cmcc 9-11'!C80+'UMA 9-14'!C80+'KVCC 9-17'!C81+'CMCC 9-21'!C80+'SMCC9-22'!C80+'YCCC9-23'!C80+'smcc9-26'!C80+'Nippo 9-28'!C80+'UMF10-3'!C80+'YSCC Championships'!C81) -> 1 | D78: =('PSC8-24'!D80+'NHTI 9-7'!D81+'cmcc 9-11'!D80+'UMA 9-14'!D80+'KVCC 9-17'!D81+'CMCC 9-21'!D80+'SMCC9-22'!D80+'YCCC9-23'!D80+'smcc9-26'!D80+'Nippo 9-28'!D80+'UMF10-3'!D80+'YSCC Championships'!D81) -> 90 | E78: =D78/C78 -> 90 | G78: =C78+1 -> 2 | H78: =D78+F78 -> 90 | I78: =H78/G78 -> 45
A79: Logan Carpentet | B79: =('PSC8-24'!B81+'NHTI 9-7'!B82+'cmcc 9-11'!B81+'UMA 9-14'!B81+'KVCC 9-17'!B82+'CMCC 9-21'!B81+'SMCC9-22'!B81+'YCCC9-23'!B81+'smcc9-26'!B81+'Nippo 9-28'!B81+'UMF10-3'!B81+'YSCC Championships'!B82) -> 1 | C79: =('PSC8-24'!C81+'NHTI 9-7'!C82+'cmcc 9-11'!C81+'UMA 9-14'!C81+'KVCC 9-17'!C82+'CMCC 9-21'!C81+'SMCC9-22'!C81+'YCCC9-23'!C81+'smcc9-26'!C81+'Nippo 9-28'!C81+'UMF10-3'!C81+'YSCC Championships'!C82) -> 1 | D79: =('PSC8-24'!D81+'NHTI 9-7'!D82+'cmcc 9-11'!D81+'UMA 9-14'!D81+'KVCC 9-17'!D82+'CMCC 9-21'!D81+'SMCC9-22'!D81+'YCCC9-23'!D81+'smcc9-26'!D81+'Nippo 9-28'!D81+'UMF10-3'!D81+'YSCC Championships'!D82) -> 95 | E79: =D79/C79 -> 95 | G79: =C79+1 -> 2 | H79: =D79+F79 -> 95 | I79: =H79/G79 -> 47.5
A83: SMCC Women
A84: Golfer Name | B84: # of matches | C84: Total Rounds (.5 for 9 hole round) | D84: Strokes | E84: Stroke Average (pre yscc tournament) | F84: Strokes on 10/6 | G84: totals rounds | H84: Total Strokes | I84: Final Average
A85: Charlotte Blanchard | B85: =('PSC8-24'!B87+'NHTI 9-7'!B88+'cmcc 9-11'!B87+'UMA 9-14'!B87+'KVCC 9-17'!B88+'CMCC 9-21'!B87+'SMCC9-22'!B87+'YCCC9-23'!B87+'smcc9-26'!B87+'Nippo 9-28'!B87+'UMF10-3'!B87+'YSCC Championships'!B88) -> 2 | C85: =('PSC8-24'!C87+'NHTI 9-7'!C88+'cmcc 9-11'!C87+'UMA 9-14'!C87+'KVCC 9-17'!C88+'CMCC 9-21'!C87+'SMCC9-22'!C87+'YCCC9-23'!C87+'smcc9-26'!C87+'Nippo 9-28'!C87+'UMF10-3'!C87+'YSCC Championships'!C88) -> 2 | D85: =('PSC8-24'!D87+'NHTI 9-7'!D88+'cmcc 9-11'!D87+'UMA 9-14'!D87+'KVCC 9-17'!D88+'CMCC 9-21'!D87+'SMCC9-22'!D87+'YCCC9-23'!D87+'smcc9-26'!D87+'Nippo 9-28'!D87+'UMF10-3'!D87+'YSCC Championships'!D88) -> 182 | E85: =D85/C85 -> 91 | G85: =C85+1 -> 3 | H85: =D85+F85 -> 182 | I85: =H85/G85 -> 60.666667
A86: Sydney Pergerson | B86: =('PSC8-24'!B88+'NHTI 9-7'!B89+'cmcc 9-11'!B88+'UMA 9-14'!B88+'KVCC 9-17'!B89+'CMCC 9-21'!B88+'SMCC9-22'!B88+'YCCC9-23'!B88+'smcc9-26'!B88+'Nippo 9-28'!B88+'UMF10-3'!B88+'YSCC Championships'!B89) -> 2 | C86: =('PSC8-24'!C88+'NHTI 9-7'!C89+'cmcc 9-11'!C88+'UMA 9-14'!C88+'KVCC 9-17'!C89+'CMCC 9-21'!C88+'SMCC9-22'!C88+'YCCC9-23'!C88+'smcc9-26'!C88+'Nippo 9-28'!C88+'UMF10-3'!C88+'YSCC Championships'!C89) -> 2 | D86: =('PSC8-24'!D88+'NHTI 9-7'!D89+'cmcc 9-11'!D88+'UMA 9-14'!D88+'KVCC 9-17'!D89+'CMCC 9-21'!D88+'SMCC9-22'!D88+'YCCC9-23'!D88+'smcc9-26'!D88+'Nippo 9-28'!D88+'UMF10-3'!D88+'YSCC Championships'!D89) -> 174 | G86: =C86+1 -> 3 | H86: =D86+F86 -> 174 | I86: =H86/G86 -> 58
A87: Delaney Blake | B87: =('PSC8-24'!B89+'NHTI 9-7'!B90+'cmcc 9-11'!B89+'UMA 9-14'!B89+'KVCC 9-17'!B90+'CMCC 9-21'!B89+'SMCC9-22'!B89+'YCCC9-23'!B89+'smcc9-26'!B89+'Nippo 9-28'!B89+'UMF10-3'!B89+'YSCC Championships'!B90) -> 2 | C87: =('PSC8-24'!C89+'NHTI 9-7'!C90+'cmcc 9-11'!C89+'UMA 9-14'!C89+'KVCC 9-17'!C90+'CMCC 9-21'!C89+'SMCC9-22'!C89+'YCCC9-23'!C89+'smcc9-26'!C89+'Nippo 9-28'!C89+'UMF10-3'!C89+'YSCC Championships'!C90) -> 2 | D87: =('PSC8-24'!D89+'NHTI 9-7'!D90+'cmcc 9-11'!D89+'UMA 9-14'!D89+'KVCC 9-17'!D90+'CMCC 9-21'!D89+'SMCC9-22'!D89+'YCCC9-23'!D89+'smcc9-26'!D89+'Nippo 9-28'!D89+'UMF10-3'!D89+'YSCC Championships'!D90) -> 206 | G87: =C87+1 -> 3 | H87: =D87+F87 -> 206 | I87: =H87/G87 -> 68.666667
A88: Emma Hajdasz | B88: =('PSC8-24'!B90+'NHTI 9-7'!B91+'cmcc 9-11'!B90+'UMA 9-14'!B90+'KVCC 9-17'!B91+'CMCC 9-21'!B90+'SMCC9-22'!B90+'YCCC9-23'!B90+'smcc9-26'!B90+'Nippo 9-28'!B90+'UMF10-3'!B90+'YSCC Championships'!B91) -> 1 | C88: =('PSC8-24'!C90+'NHTI 9-7'!C91+'cmcc 9-11'!C90+'UMA 9-14'!C90+'KVCC 9-17'!C91+'CMCC 9-21'!C90+'SMCC9-22'!C90+'YCCC9-23'!C90+'smcc9-26'!C90+'Nippo 9-28'!C90+'UMF10-3'!C90+'YSCC Championships'!C91) -> 1 | D88: =('PSC8-24'!D90+'NHTI 9-7'!D91+'cmcc 9-11'!D90+'UMA 9-14'!D90+'KVCC 9-17'!D91+'CMCC 9-21'!D90+'SMCC9-22'!D90+'YCCC9-23'!D90+'smcc9-26'!D90+'Nippo 9-28'!D90+'UMF10-3'!D90+'YSCC Championships'!D91) -> 0 | G88: =C88+1 -> 2 | H88: =D88+F88 -> 0 | I88: =H88/G88 -> 0

Sheet Sheet1
